BEGIN:VCALENDAR
VERSION:2.0
PRODID:-//Hôpital Notre-Dame à la Rose - Lessines - ECPv6.15.20//NONSGML v1.0//EN
CALSCALE:GREGORIAN
METHOD:PUBLISH
X-WR-CALNAME:Hôpital Notre-Dame à la Rose - Lessines
X-ORIGINAL-URL:https://www.notredamealarose.be/en/
X-WR-CALDESC:Events for Hôpital Notre-Dame à la Rose - Lessines
REFRESH-INTERVAL;VALUE=DURATION:PT1H
X-Robots-Tag:noindex
X-PUBLISHED-TTL:PT1H
BEGIN:VTIMEZONE
TZID:Europe/Paris
BEGIN:DAYLIGHT
TZOFFSETFROM:+0100
TZOFFSETTO:+0200
TZNAME:CEST
DTSTART:20240331T010000
END:DAYLIGHT
BEGIN:STANDARD
TZOFFSETFROM:+0200
TZOFFSETTO:+0100
TZNAME:CET
DTSTART:20241027T010000
END:STANDARD
BEGIN:DAYLIGHT
TZOFFSETFROM:+0100
TZOFFSETTO:+0200
TZNAME:CEST
DTSTART:20250330T010000
END:DAYLIGHT
BEGIN:STANDARD
TZOFFSETFROM:+0200
TZOFFSETTO:+0100
TZNAME:CET
DTSTART:20251026T010000
END:STANDARD
BEGIN:DAYLIGHT
TZOFFSETFROM:+0100
TZOFFSETTO:+0200
TZNAME:CEST
DTSTART:20260329T010000
END:DAYLIGHT
BEGIN:STANDARD
TZOFFSETFROM:+0200
TZOFFSETTO:+0100
TZNAME:CET
DTSTART:20261025T010000
END:STANDARD
END:VTIMEZONE
BEGIN:VEVENT
DTSTART;TZID=Europe/Paris:20250525T153000
DTEND;TZID=Europe/Paris:20250525T173000
DTSTAMP:20260422T124722
CREATED:20241216T074624Z
LAST-MODIFIED:20250512T133833Z
UID:13201-1748187000-1748194200@www.notredamealarose.be
SUMMARY:Dramatised tours (in French only) – exhibition 🎭
DESCRIPTION:⏱️ Duration of the visit : 1h30 \nDiscover the dramatised tours (in French only) accompanied by two characters\, one from the proletariat and the other from the bourgeoisie. Discover the Belle Époque through an immersive and extraordinary experience.  \nJean-Pierre Williame and Loïce Gandibleux will be leading these tours! \n🗓️ When?\n🕰️ Start of the visite at 3.30 pm \n👉🏻 Sunday January 26th 2024 \n👉🏻 Sunday February 23rd 2025 \n👉🏻 Sunday March 9th 2025 \n👉🏻 Sunday April 20th 2025 \n👉🏻 Sunday May 25th 2025 \n👉🏻 Sunday June 15th 2025 \n👉🏻 Sunday July 20th 2025 \n👉🏻 Saturday August 30th 2025 \n🪙 Entrance fee\n🧑🏻🧓🏻👨🏻‍🎓 Pour les adultes\, séniors et étudiants\, le prix est de 10€ par personne. \n🎩FREE for visitors who come in 1900 costume. \n🔗 Reservations\nTo book\, simply click on the following button and follow the booking steps 👇🏻 \nReservation
URL:https://www.notredamealarose.be/en/event/dramatised-tours-in-french-only-exhibition-%f0%9f%8e%ad/
LOCATION:Arsenal des Pompiers de Lessines\, Rue des Quatre frères Aymon\, Lessines\, Hainaut\, 7860
ATTACH;FMTTYPE=image/jpeg:https://www.notredamealarose.be/2022/wp-content/uploads/2024/09/DSC_0186-2.jpg
ORGANIZER;CN="H%C3%B4pital Notre-Dame %C3%A0 la Rose":MAILTO:info@notredamelarose.be
END:VEVENT
BEGIN:VEVENT
DTSTART;TZID=Europe/Paris:20250517T180000
DTEND;TZID=Europe/Paris:20250517T220000
DTSTAMP:20260422T124722
CREATED:20250514T095117Z
LAST-MODIFIED:20250514T095117Z
UID:13239-1747504800-1747519200@www.notredamealarose.be
SUMMARY:European museumnight 2025
DESCRIPTION:EUROPEAN MUSEUM NIGHT \nSaturday May 17: free nocturne from 6pm to 10pm \n  \nTo mark European museum night\, we’ve put together a program of immersive\, sensitive and creative activities. Join us in building the museum of tomorrow!  \n  \nThe emotional rose \nWhat emotions do you feel in the rooms of our museum? Joy\, serenity\, or rather a chill down your spine\, or even a real sense of unease? Become an active participant in your visit and share your feelings with us by dropping off your origami rose in the various rooms of the museum!   \n  \nMy ideal museum \nWhat if everything were possible? What if the museum of your dreams could become reality? Using words\, stickers or drawings\, share your ideas for enhancing the different areas of the museum. And if you had to give these spaces a name\, what would it be? To stimulate your imagination\, don’t forget to stop by the bar so you don’t get dehydrated!     \n  \nTechno or retro ? \nWhat scenography for tomorrow’s museum? Techno or retro? Tell us what you prefer\, and vote for your favorite design using the beads you receive at reception!   \n  \nVisit with Gérald Decoster \nDeparture from reception at 6pm. Length: 2 hours. Visit in French.   \nRegistration : https://tinyurl.com/2y3twh76 \nArt historian and long-time volunteer Gérald Decoster offers a unique tour of the site. A moving and inspiring visit not to be missed! A nod to the theme of the International museum day on the following day!   \n  \nPRACTICAL INFORMATIONS \nFree nocturne from 6pm to 10pm (last entry at 9pm). \nRegistration : https://tinyurl.com/2cju6h56\nThe museum is open during the day at the usual times and rates. \nPMR & assistance dog access. SNCB train station 400m away. Parkings nearby.
URL:https://www.notredamealarose.be/en/event/european-museumnight-2025/
LOCATION:Arsenal des Pompiers de Lessines\, Rue des Quatre frères Aymon\, Lessines\, Hainaut\, 7860
ATTACH;FMTTYPE=application/pdf:https://www.notredamealarose.be/2022/wp-content/uploads/2025/05/Nuit-europeenne-des-musees-17mai2025-Hopital-Notre-Dame-a-la-Rose-print.pdf
ORGANIZER;CN="H%C3%B4pital Notre-Dame %C3%A0 la Rose":MAILTO:info@notredamelarose.be
END:VEVENT
END:VCALENDAR