BEGIN:VCALENDAR
VERSION:2.0
PRODID:-//Hôpital Notre-Dame à la Rose - Lessines - ECPv6.15.20//NONSGML v1.0//EN
CALSCALE:GREGORIAN
METHOD:PUBLISH
X-ORIGINAL-URL:https://www.notredamealarose.be/en/
X-WR-CALDESC:Events for Hôpital Notre-Dame à la Rose - Lessines
REFRESH-INTERVAL;VALUE=DURATION:PT1H
X-Robots-Tag:noindex
X-PUBLISHED-TTL:PT1H
BEGIN:VTIMEZONE
TZID:Europe/Paris
BEGIN:DAYLIGHT
TZOFFSETFROM:+0100
TZOFFSETTO:+0200
TZNAME:CEST
DTSTART:20230326T010000
END:DAYLIGHT
BEGIN:STANDARD
TZOFFSETFROM:+0200
TZOFFSETTO:+0100
TZNAME:CET
DTSTART:20231029T010000
END:STANDARD
BEGIN:DAYLIGHT
TZOFFSETFROM:+0100
TZOFFSETTO:+0200
TZNAME:CEST
DTSTART:20240331T010000
END:DAYLIGHT
BEGIN:STANDARD
TZOFFSETFROM:+0200
TZOFFSETTO:+0100
TZNAME:CET
DTSTART:20241027T010000
END:STANDARD
BEGIN:DAYLIGHT
TZOFFSETFROM:+0100
TZOFFSETTO:+0200
TZNAME:CEST
DTSTART:20250330T010000
END:DAYLIGHT
BEGIN:STANDARD
TZOFFSETFROM:+0200
TZOFFSETTO:+0100
TZNAME:CET
DTSTART:20251026T010000
END:STANDARD
BEGIN:DAYLIGHT
TZOFFSETFROM:+0100
TZOFFSETTO:+0200
TZNAME:CEST
DTSTART:20260329T010000
END:DAYLIGHT
BEGIN:STANDARD
TZOFFSETFROM:+0200
TZOFFSETTO:+0100
TZNAME:CET
DTSTART:20261025T010000
END:STANDARD
END:VTIMEZONE
BEGIN:VEVENT
DTSTART;VALUE=DATE:20240427
DTEND;VALUE=DATE:20250831
DTSTAMP:20260422T124234
CREATED:20240327T110717Z
LAST-MODIFIED:20250424T082943Z
UID:11719-1714176000-1756598399@www.notredamealarose.be
SUMMARY:Exhibition "What if I was 20 in the 1900s : Lessines during the Belle Époque"
DESCRIPTION:  \n🎭 Upcoming event : Exhibition “What if I was 20 in the 1900s : Lessines during the Belle Époque” 📅 From the 27th of April 2024 to the 31th of January 2025. \n🌟 About the exhibition : Discover the tumultuous life of Valentine\, a young woman living in Lessines at the start of the 20th century. 🏡👩‍🎓 Go through her troubled childhood\, her struggle for emancipation and discover her commitment to the Hospital Notre-Dame à la Rose. 🏥 \n🤝 Collaborations : This project was realised with the support of : Athénée Royal René Magritte\, Cercle de Généalogie de Lessines\, and other local partners. 📚🛠️ \n👂 Immersion : Narrated tours\, immersive podcasts and more! Discover the history of your city from a new angle. 🎧📖 \n🎉 Special event : A typical folk ball of the 1900s on August the third 2024! 🕺💃 \n📬 Stay informed : Subscribe to our newsletter. 💌 \n🏛️ Office de Tourisme : Expose your family souvenirs in the Tourist Office. We are looking for objets dating from 1880 until 1920. Contact Gertrude Raulier at 068/33.36.90 or via info@visitlessines.be 🕰️📸 \n  \n\n\nCombi ticket+ (Museum and exhibition) 🖼️\n\n  \n⏱️ Duration of the tour : 4h (the garden can be visited with an audioguide) \nSpend an entire day on our site enjoying the museum and its gardens in the morning\, if you also wish\, book your dinner at  La Table d’Alix via their booking tool. In the afternoon\, an immersion in the Belle Époque is offered via our exhibition. \n🕰️ The tour starts at 2pm\, after your museumvisit. \n  \n\n\n\n\n🪙 Entrance fee\n  \n\n\n\n🧑🏻 Adults : 15€/person\n🧓🏻👨🏻‍🎓 Seniors & students : 12€/person\n🧒🏻 Children (6-12 years) : 5€/ person\n🧑🏻‍🦯🧑🏻‍🦽 Person with special needs : Free entrance\, 7€ supporting person\n🗝️ Inhabitants Lessines : Free entrance\n👶🏻 Children (<6 years) : Free entrance\nArticle 27 : 1.25€/ person\n📰 Press : Free entrance\n🌐 MuseumPass\, ICOM card\, ICOMOS card\, 365.be\, teachers card : Free entrance \n  \n\n\n\n\n\n🔗 Reservations\nTo book\, simply click on the following button and follow the booking steps 👇🏻 \n\n\nReservation\n  \n\n\n\n\nFormula only exhibition 🖼️\n\n\n  \n⏱️ Duration of the tour : 2h \nDiscover Valentine’s life through various tools such as her diary or audio capsules of key moments of her life. \n🕰️ The tour starts at 2pm\, after your museumvisit. \n  \n🪙 Entrance fee\n  \n\n\n\n🧑🏻 Adults : 5€/person\n🧓🏻👨🏻‍🎓 Seniors & students : 3€/person\n🧒🏻Children (<12 ans) : Free entrance\n🧑🏻‍🦯🧑🏻‍🦽 Person with special needs : Free entrance\, 2€ supporting person\n🗝️ Inhabitants of Lessines : Free entrance\nArticle 27 : 1.25€/ person\n📰 Press : Free entrance\n🌐 MuseumPass\, ICOM card\, ICOMOS card\, 365.be\, teachers card : Free entrance \n\n\n🔗 Reservations\nTo book\, simply click on the following button and follow the booking steps 👇🏻 \n\n\nReservation\n  \n\n\n\n\nDramatised visits (only in French) 🎭\n  \n\n⏱️ Duration of the visit : 1h30 \nAlso discover the dramatised visits accompanied by two characters\, one from the proletariat and the other from the bourgeoisie. Discover the Belle Époque in an immersive and extraordinary experience. \nThe actors who will lead these visits are part of La Troupe du Cactus \n  \n🗓️ When?\n\n  \n🕰️ Start of the visite at 3.30 pm \n\n\n\n\n☀️ On Sunday the 14th July\, 2024\, during the Saint-Camillus\, Patron Saint of nurses! They can participate free of charge if they show up at the reception in work clothes or if the show their badge 🧑🏻‍⚕️💉 \n👉🏻 Saturday\, July 27\, 2024 \n👉🏻 Sunday\, August 11\, 2024 \n👉🏻 Sunday\, September 15\, 2024 \n👉🏻 Sunday\, October 6\, 2024 \n👉🏻 Sunday\, November 10\, 2024 \n👉🏻 Sunday\, December 15\, 2024 \n👉🏻 Sunday\, January 12\, 2025 \n👉🏻 Sunday\, May 25\, 2025 \n👉🏻 Sunday\, June 15\, 2025 \n👉🏻 Sunday\, July 20\, 2025 \n👉🏻 Sunday\, August 30\, 2025 \n  \n🪙 Entrance fee\n  \n\n\n\n🧑🏻🧓🏻👨🏻‍🎓 For adults\, seniors and students\, the price is 13€ per person\, including a consumption of coffee\, soft or absinthe. \n  \n🔗 Reservations\nTo book\, simply click on the following button and follow the booking steps 👇🏻 \n\n\nReservation\n\n\n\n\n\n\n\n\nGuided tours 👥\n\nGuided tours are also possible on request and prior reservation by email at info@notredamealarose.be !
URL:https://www.notredamealarose.be/en/event/exhibition-what-if-i-was-20-in-the-1900s-lessines-during-the-belle-epoque/
LOCATION:Arsenal des Pompiers de Lessines\, Rue des Quatre frères Aymon\, Lessines\, Hainaut\, 7860
ORGANIZER;CN="H%C3%B4pital Notre-Dame %C3%A0 la Rose":MAILTO:info@notredamelarose.be
END:VEVENT
BEGIN:VEVENT
DTSTART;TZID=Europe/Paris:20250830T143000
DTEND;TZID=Europe/Paris:20250830T160000
DTSTAMP:20260422T124234
CREATED:20250206T100129Z
LAST-MODIFIED:20250710T082910Z
UID:13195-1756564200-1756569600@www.notredamealarose.be
SUMMARY:Dramatised tours (in French only) – exhibition 🎭
DESCRIPTION:⏱️ Duration of the visit : 1h30 \nDiscover the dramatised tours (in French only) accompanied by two characters\, one from the proletariat and the other from the bourgeoisie. Discover the Belle Époque through an immersive and extraordinary experience. \nJean-Pierre Williame and Loïce Gandibleux will be leading these tours! \n🗓️ When?\n🕰️ Start of the visite at 2.30 pm \n👉🏻 Sunday January 26th 2024 \n👉🏻 Sunday February 23rd 2025 \n👉🏻 Sunday March 9th 2025 \n👉🏻 Sunday April 20th 2025 \n👉🏻 Sunday May 25th 2025 \n👉🏻 Sunday June 15th 2025 \n👉🏻 Sunday July 20th 2025 \n👉🏻 Saturday August 30th 2025 \n  \n🪙 Entrance fee\n🧑🏻🧓🏻👨🏻‍🎓 Pour les adultes\, séniors et étudiants\, le prix est de 10€ par personne. \n🔗 Reservations\nTo book\, simply click on the following button and follow the booking steps 👇🏻 \nReservation
URL:https://www.notredamealarose.be/en/event/dramatised-tours-exhibition-%f0%9f%8e%ad/
LOCATION:Arsenal des Pompiers de Lessines\, Rue des Quatre frères Aymon\, Lessines\, Hainaut\, 7860
ATTACH;FMTTYPE=image/jpeg:https://www.notredamealarose.be/2022/wp-content/uploads/2024/09/DSC_0186-2.jpg
END:VEVENT
BEGIN:VEVENT
DTSTART;TZID=Europe/Paris:20250830T160000
DTEND;TZID=Europe/Paris:20250831T013000
DTSTAMP:20260422T124234
CREATED:20240703T110401Z
LAST-MODIFIED:20250827T182921Z
UID:13267-1756569600-1756603800@www.notredamealarose.be
SUMMARY:LOVE & SWING - Festive afternoon and grand ball with a Roaring Twenties theme 🎩
DESCRIPTION:LOVE & SWING – Festive afternoon and grand ball with a Roaring Twenties theme 🎩 \nOn Saturday 30 August from 4pm\, at the Arsenal des Pompiers in Lessines \n\n\nTo round off the exhibition Et si j’avais 20 ans en 1900 in style\, the Hôpital Notre-Dame à la Rose and the Centre Culturel René Magritte invite you to a unique celebration. \nGet ready to step back in time and plunge into the spellbinding atmosphere of the Roaring Twenties with LOVE & SWING: a big party where heritage flirts with music\, theatre… and joie de vivre! \nBring the whole family – we’ve got plenty of entertainment for all ages\, a bar and gourmet delights on site\, and of course the chance to (re)discover our flagship exhibition Et si j’avais 20 ans en 1900 for the very last time: an unforgettable afternoon and evening in store! \nThe 1920s dress code is highly recommended: costumed visitors will be rewarded with something special! \nON THE PROGRAMME: \n \nDramatised tour of the exhibition Et si j’avais 20 ans en 1900 – 2.30pm (booking required\, separate ticket)\nA dramatised walk that will plunge you into the world of the proletariat and the bourgeoisie at the time of the Belle Epoque. \nFamily party afternoon – from 4pm\nTraditional games\, tattoos\, fairground stalls and food trucks for young and old alike. \n\n\nIntroduction to swing dancing – 6pmLet the Jazz Maniacs guide you and learn a few steps to shine on the dance floor! \nAcrobatic show by the exhibition’s bride and groom – 8pm\nA touch of madness\, a dash of romance\, and artists twirling around in a surprise mini-show. \n\n\nLive concert – The Viper’s Rhythm Band – 8:30 p.m.\nGet ready for a wild and crazy atmosphere with the Viper’s Rhythm Band. It’s going to be a swinging start to the evening! \nDJ Set until the end of the night – 10:30 p.m.\nWe’re extending the party with a retro-futuristic mix that will take you on a journey through the musical eras from the 1920s to today. An exclusive DJ Set by DJ FenX from Global Event Production.  \n\n\n🔗Event\nFee : from 3 until 15 €\nBooking LOVE & SWING\nBooking LOVE & SWING + visit of the museum\, de exhibition of both.
URL:https://www.notredamealarose.be/en/event/love-swing-grand-ball-on-the-theme-of-the-roaring-twenties-%f0%9f%8e%a9/
LOCATION:Arsenal des Pompiers de Lessines\, Rue des Quatre frères Aymon\, Lessines\, Hainaut\, 7860
ATTACH;FMTTYPE=image/jpeg:https://www.notredamealarose.be/2022/wp-content/uploads/2024/07/BalEVENTfb.jpg
ORGANIZER;CN="H%C3%B4pital Notre-Dame %C3%A0 la Rose":MAILTO:info@notredamelarose.be
END:VEVENT
END:VCALENDAR