BEGIN:VCALENDAR
VERSION:2.0
PRODID:-//Hôpital Notre-Dame à la Rose - Lessines - ECPv6.15.20//NONSGML v1.0//EN
CALSCALE:GREGORIAN
METHOD:PUBLISH
X-WR-CALNAME:Hôpital Notre-Dame à la Rose - Lessines
X-ORIGINAL-URL:https://www.notredamealarose.be/nl/
X-WR-CALDESC:Evenementen voor Hôpital Notre-Dame à la Rose - Lessines
REFRESH-INTERVAL;VALUE=DURATION:PT1H
X-Robots-Tag:noindex
X-PUBLISHED-TTL:PT1H
BEGIN:VTIMEZONE
TZID:Europe/Paris
BEGIN:DAYLIGHT
TZOFFSETFROM:+0100
TZOFFSETTO:+0200
TZNAME:CEST
DTSTART:20250330T010000
END:DAYLIGHT
BEGIN:STANDARD
TZOFFSETFROM:+0200
TZOFFSETTO:+0100
TZNAME:CET
DTSTART:20251026T010000
END:STANDARD
BEGIN:DAYLIGHT
TZOFFSETFROM:+0100
TZOFFSETTO:+0200
TZNAME:CEST
DTSTART:20260329T010000
END:DAYLIGHT
BEGIN:STANDARD
TZOFFSETFROM:+0200
TZOFFSETTO:+0100
TZNAME:CET
DTSTART:20261025T010000
END:STANDARD
BEGIN:DAYLIGHT
TZOFFSETFROM:+0100
TZOFFSETTO:+0200
TZNAME:CEST
DTSTART:20270328T010000
END:DAYLIGHT
BEGIN:STANDARD
TZOFFSETFROM:+0200
TZOFFSETTO:+0100
TZNAME:CET
DTSTART:20271031T010000
END:STANDARD
END:VTIMEZONE
BEGIN:VEVENT
DTSTART;VALUE=DATE:20260129
DTEND;VALUE=DATE:20260301
DTSTAMP:20260420T112221
CREATED:20260129T110314Z
LAST-MODIFIED:20260129T110314Z
UID:13901-1769644800-1772323199@www.notredamealarose.be
SUMMARY:Jaarverslag 2025 en planning 2026: vul het online formulier in!
DESCRIPTION:Jaarverslag 2025 en planning 2026: vul het online formulier in!\nTijdens de sluiting van het museum voor het publiek wordt er achter de schermen hard gewerkt 💪\nVandaag is het aan jullie! 🫶 \n \nHelp ons het seizoen 2025 te overzien en stel je het programma van 2026 voor door onze online vragenlijst te beantwoorden via deze link vóór 28 februari 2026.\nOf u nu een vaste bezoeker of bezoeker bent\, uw mening is ons van groot belang bij het samenstellen van een leuk\, verrijkend en toegankelijk museumprogramma voor 2026 voor iedereen ✨!
URL:https://www.notredamealarose.be/nl/event/jaarverslag-2025-en-planning-2026-vul-het-online-formulier-in/
LOCATION:Hopital Notre-Dame à la Rose
ATTACH;FMTTYPE=image/jpeg:https://www.notredamealarose.be/2022/wp-content/uploads/2026/01/Banner-site-sondage-janvier-2026.jpg
ORGANIZER;CN="H%C3%B4pital Notre-Dame %C3%A0 la Rose":MAILTO:info@notredamelarose.be
END:VEVENT
BEGIN:VEVENT
DTSTART;TZID=Europe/Paris:20260214T160000
DTEND;TZID=Europe/Paris:20260214T233000
DTSTAMP:20260420T112221
CREATED:20251216T163728Z
LAST-MODIFIED:20251216T163728Z
UID:13817-1771084800-1771111800@www.notredamealarose.be
SUMMARY:Chandelles & Pyjamas
DESCRIPTION:Chandelles & Pyjamas\nZaterdag 14 februari 2026\, vanaf 16 uur \nHet Hôpital Notre-Dame à la Rose\, het Centre Culturel René Magritte en La Table d’Alix nodigen u uit voor een speelse\, theatrale en gastronomische Valentijnsdag!\nAlleen\, met z’n tweeën of met het hele gezin\, beleef een buitengewone Valentijnsdag! \nActiviteiten voor kinderen en volwassenen in het Hôpital Notre-Dame à la Rose\n\nDeze speciale Valentijnsavond biedt een Chandelles-programma voor volwassenen\, een Pyjama-programma voor kinderen vanaf 6 jaar en een aangepast programma voor de allerkleinsten vanaf 2\,5 jaar. \nBeide programma’s worden momenteel afgerond en worden binnenkort bekendgemaakt.\nVolg ons op Facebook en Instagram om niets te missen. \n🎟️ Informatie en reserveringen via deze link. \n20.30 uur: Theaterstuk Est-ce qu’on ne pourrait pas s’aimer un peu ? (Kunnen we niet een beetje van elkaar houden?) \nVan en met Sandrine Hooge\, Serge Bodart en Eric de Staercke · Regie: Jaco Van Dormael.  \nDe zin “Kunnen we niet een beetje van elkaar houden?” is de titel van een burlesk toneelstuk van Jaco Van Dormael\,door hemzelf geregisseerd\, dat gaat over eenzaamheid en de moeilijkheid om contact te maken met anderen\, zelfs als je wilt liefhebben en elkaar wilt ontmoeten. De zin kan ook verwijzen naar een meer algemene vraag over de mogelijkheid om ondanks relationele moeilijkheden (zoals leeftijdsverschillen) van elkaar te houden\, waarbij thema’s als verschillen in levenservaring\, emotionele volwassenheid en seksuele verlangens aan bod komen.  \n🎟️ Informatie en tickets via deze link\, per telefoon op +32 (0)68 250 600 of per e-mail op billetterie@ccrenemagritte.be. \n  \nGastronomisch diner bij La Table d’Alix\nDe lekkernijen en het menu worden momenteel samengesteld\, nog even geduld. 😌\nVolg ons op Facebook en Instagram om op de hoogte te blijven van het laatste nieuws. \n🎟️ Informatie en reserveringen via deze link. \nChandelles & pyjamas\, in samenwerking met La Table d’Alix en het Centre Culturel René Magritte.
URL:https://www.notredamealarose.be/nl/event/chandelles-pyjamas/
LOCATION:Hopital Notre-Dame à la Rose
ATTACH;FMTTYPE=image/jpeg:https://www.notredamealarose.be/2022/wp-content/uploads/2025/12/CHandellepyj-PUBLICATION-1.jpg
ORGANIZER;CN="H%C3%B4pital Notre-Dame %C3%A0 la Rose":MAILTO:info@notredamelarose.be
END:VEVENT
BEGIN:VEVENT
DTSTART;VALUE=DATE:20260319
DTEND;VALUE=DATE:20260323
DTSTAMP:20260420T112221
CREATED:20260226T132425Z
LAST-MODIFIED:20260319T140815Z
UID:13692-1773878400-1774223999@www.notredamealarose.be
SUMMARY:Les journées du Matrimoine 2026 : à ta santé !
DESCRIPTION:LES JOURNÉES DU MATRIMOINE 2026 : à ta santé !\nVan donderdag 19 tot zondag 22 maart 2026 \n \n  \n  \n  \n  \nDe vzw Office de Tourisme – Musée de l’Hôpital Notre-Dame à la Rose de Lessines\, het PAC WAPI en het collectief Pluri’elles nodigen u uit voor hun Journées du Matrimoine\, die plaatsvinden van 19 tot 22 maart 2026. Na in 2025 de plaats van vrouwen in de geschiedenis en de openbare ruimte te hebben onderzocht\, staat in deze nieuwe editie de gezondheid van vrouwen centraal in een gevarieerd en geëngageerd programma.  \nLes Journées du Matrimoine\nHet moederlijke erfgoed vormt een belangrijk vraagstuk bij het herdefiniëren van ons culturele en sociale erfgoed. Al enkele jaren proberen initiatieven zoals de Journées du Matrimoine deze gelijkheid te herstellen door het erfgoed van moeders\, en niet alleen van vaders\, onder de aandacht te brengen.  \nHet doel van Créer des Journées du Matrimoine\, is om bewustzijn te creëren over de bijdragen van vrouwen aan onze samenleving\, zowel in het verleden als vandaag\, om de herinnering aan deze creatieve vrouwen uit het verleden levend te houden\, om na te denken over de mechanismen die hebben geleid tot hun onzichtbaarheid en om waakzaam te blijven zodat de verworven feministische rechten en vrijheden niet worden afgenomen. \nÀ ta santé\nLang tijd aan de zijlijn van medisch onderzoek geplaatst\, blijft de gezondheid van vrouwen vandaag de dag nog steeds gevangen in wetenschappelijke normen die door het mannelijke model worden gedomineerd. Deze structurele ongelijkheid leidt tot grote hiaten op het gebied van preventie\, diagnose en behandeling\, wat het welzijn en de algehele gezondheid van vrouwen in gevaar brengt.  \nNaast deze aanhoudende kwesties op het gebied van volksgezondheid\, floreren paradoxaal genoeg commerciële discoursen en andere welzijnsvoorschriften\, waarin zelfzorg vaak wordt teruggebracht tot er mooi uitzien. Deze boodschap\, diep verankerd in sociale representaties\, versterkt het idee dat zorgen voor anderen en de verantwoordelijkheid voor welzijn in de eerste plaats vrouwelijk zijn — waarmee een dubbele onrechtvaardige eis wordt bestendigd: zorgen en zich conformeren.  \nTe midden van een farmacopoe die niet is aangepast aan de vrouwelijke fysiologie en de medische doelloosheid die veel vrouwelijke patiënten met specifieke aandoeningen ondergaan — zoals endometriose\, die toch één op de tien vrouwen treft — laten steeds meer mensen van zich horen. De getuigenissen stapelen zich op en onthullen bovendien soms angstaanjagende ervaringen van gynaecologisch en obstetrisch geweld\, die lange tijd verzwegen of geminimaliseerd werden.  \nLes Journées du Matrimoine 2026\, voor de gelegenheid getiteld À ta santé\, nodigen uit om deze complexe realiteiten te verkennen. Gezondheidsprofessionals\, historici\, kunstenaars en burgers wisselen er hun inzichten uit om de aanhoudende ongelijkheden te belichten en concrete oplossingen te bespreken om deze aan te pakken.  \n⚠️ Een kleine opmerking voor uw organisatie: sommige van onze activiteiten behandelen gevoelige onderwerpen en zijn niet geschikt voor kinderen –✋ Alleen voor volwassenen – terwijl andere activiteiten voor alle leeftijden zijn bedoeld – ✅ – en zowel volwassenen als kinderen zullen bekoren! \nOp het programma (in het Frans)\nDonderdag 19.03.2026 (vanaf 18:30 uur) :  \n\nBorrel en boekbespreking van “Politiser le bien-être“ van Camille Teste\, filosofe\, essayiste\, journaliste en yogadocente – ✋ Voor volwassenen\n\nVrijdag 20.03 (vanaf 18:30):   \n✅ Geschikt voor alle leeftijden: \n\nOpeningsavond met een live kunstperformance van beeldend kunstenaar Karine Marenne\, in samenwerking met de Secteur des Arts plastiques de la Province de Hainaut\nEnchantement van de kapel door het vrouwenkoor Duniani uit Frasnes-lez-Anvaing\nOntdekking van het Museum door de woorden van de openbare schrijvers van PAC Wallonië Picarde \n\nZaterdag 21.03 :  \n\n11.00-12.30 uur: Rondleiding “Waar zijn de vrouwen?” – Vanaf 10 jaar\n14h-16h15 : Atelier-jeu Dis\, comment on fat les bébés ? – De 10 à 14 ans\n14.00-15.00 uur: Workshop coaching door Andréa Cornez\, specialist in re-integratie op de arbeidsmarkt na kanker – ✋ Voor volwassenen\n15.30-16.15 uur: Workshop hypno-ontspanning door Auréa Cherpion\, hypnotherapeut gespecialiseerd in het Heilige Vrouwelijke – Vanaf 12 jaar\n17.00-19.30 uur: Ontmoeting en discussie met Camille Teste\, auteure van de book Politiser le bien-être – ✋ Voor volwassenen\n\nZondag 22.03.2026 :  \n\n11.00-12.00 uur: Viniyoga door Isabelle Beirens\, docente lichaamsvorming en podiumbeweging – Vanaf 8 jaar\n14.00-14.45 uur: Voorleessessies over stereotypen en de rol van vrouwen in de geschiedenis – Van 6 tot 12 jaar\n14u-14u45: Workshop over het bewustmaken van de preventie van vrouwelijke kankers\, door de Dr. Isabelle Schlikker \, Dr. Marie-Anne Labaisse\, Dr. Aurélien Simon  en Anne-Sophie Delcourt van de Clinique du Sein du CHwapi – ✋ Voor volwassenen\n\n \n\n15.30-17.45 uur: Vertoning van de documentaire Ex utero in aanwezigheid van regisseur Lili Forestier – ✋ Vanaf 16 jaar (gevoelig onderwerp)Ex Utero laveert tussen een stukje geschiedenis van de gynaecologie en hedendaagse getuigenissen. Tegenover ons\, als reactie op eeuwenoude praktijken\, getuigen vrouwen over één ding dat ze gemeen hebben: ze zijn ooit geconfronteerd met gynaecologisch misbruik. \n\nDans la foulée de la projection\, table ronde sur la fabrication du film et les violences gynécologiques & obstétricales avec des représentant·e·s de la Clinique en Bois\, van de Maternité des 10 lunes-EpiCURA Ath\, en de ASBL Toi Mon Endo. \n  \nEn het hele weekend door\, leuke activiteiten voor kinderen over genderstereotypen en de diversiteit van opvoedingsmodellen\, culinaire ontdekkingen die het talent van gerenommeerde chef-koks bij La Table d’Alix in de schijnwerpers zetten\, en nog veel meer verrassingen \nDe organisatoren\nLe PAC WAPI (Présence et Action Culturelles) : ecosocialistische beweging voor permanente en volkseducatie\, erkend door het Ministerie van Cultuur van de Federatie Wallonië-Brussel. Zijn deelname is vanzelfsprekend aangezien het de ecosociaal-culturele ontwikkeling rond het erfgoed benadrukt.  \n✨ Ontdek PluriElles Wapi! ✨We zijn verheugd om de oprichting aan te kondigen van een nieuw collectief van feministische burgers die zich inzetten voor gelijkheid\, solidariteit en rechtvaardigheid. PluriElles Wapi brengt vrouwen uit alle lagen van de bevolking samen die vastbesloten zijn om hun stem te laten horen en actie te ondernemen voor een positieve verandering in onze samenleving.\nOnze middelen zijn kunst in al haar vormen en cultuur in haar totaliteit\, om mensen bewust te maken\, te onderwijzen en samen te brengen rond waarden als respect\, inclusie en rechtvaardigheid. Samen zullen we creativiteit\, cultuur en artistieke expressie gebruiken om onze boodschap over te brengen en onze samenleving te veranderen.\nSluit u bij ons aan om samen te bouwen aan een toekomst die inclusiever is\, respect heeft voor verschillen en hoop biedt! Want samen staan we sterker.  \nL’Hôpital Notre-Dame à la Rose de Lessines : waarlijk een juweel van het Waalse erfgoed\, dankt dit ziekenhuis zijn lange bestaansduur aan de veerkracht en toewijding van een gemeenschap van nonnen die bijna zeven eeuwen lang zorg droegen voor de zieken en de meest kwetsbaren\, buiten het zicht\, achter het kloosterhek. Voorloper van onze moderne sociale en ziekenhuisinstellingen\, is dit Hôtel-Dieu\, tegenwoordig omgevormd tot een museum voor de geschiedenis van de geneeskunde en gezondheidszorg\, een ideale plek om initiatieven van Erfgoed in het Picardische Wallonië te ontvangen en te dienen als katalysator voor een hedendaagse reflectie over genderongelijkheden en de noodzaak van sociale rechtvaardigheid\, met name op het gebied van de gezondheidszorg.  \nPraktische info\n \n  \n  \n  \n  \nInfos et reservering : https://www.billetweb.fr/matrimoine – +32 68 33 24 03 (kies onthaal)
URL:https://www.notredamealarose.be/nl/event/de-matrimoine-dagen-2026/
LOCATION:Hopital Notre-Dame à la Rose
CATEGORIES:Animations,Nieuws
ATTACH;FMTTYPE=image/jpeg:https://www.notredamealarose.be/2022/wp-content/uploads/2025/12/Matrimoine-PUBLI.jpg
ORGANIZER;CN="H%C3%B4pital Notre-Dame %C3%A0 la Rose":MAILTO:info@notredamelarose.be
END:VEVENT
BEGIN:VEVENT
DTSTART;VALUE=DATE:20260328
DTEND;VALUE=DATE:20260329
DTSTAMP:20260420T112221
CREATED:20260312T114545Z
LAST-MODIFIED:20260312T114545Z
UID:14096-1774656000-1774742399@www.notredamealarose.be
SUMMARY:Grote eierenzoektocht
DESCRIPTION:
URL:https://www.notredamealarose.be/nl/event/grote-eierenzoektocht/
END:VEVENT
BEGIN:VEVENT
DTSTART;VALUE=DATE:20260413
DTEND;VALUE=DATE:20260418
DTSTAMP:20260420T112221
CREATED:20260312T114645Z
LAST-MODIFIED:20260312T114645Z
UID:14098-1776038400-1776470399@www.notredamealarose.be
SUMMARY:Semaine Jeunesse et Patrimoine
DESCRIPTION:
URL:https://www.notredamealarose.be/nl/event/semaine-jeunesse-et-patrimoine/
END:VEVENT
BEGIN:VEVENT
DTSTART;VALUE=DATE:20260514
DTEND;VALUE=DATE:20260515
DTSTAMP:20260420T112221
CREATED:20260312T114802Z
LAST-MODIFIED:20260312T114802Z
UID:14100-1778716800-1778803199@www.notredamealarose.be
SUMMARY:Theatrale rondleiding
DESCRIPTION:
URL:https://www.notredamealarose.be/nl/event/theatrale-rondleiding/
END:VEVENT
END:VCALENDAR