BEGIN:VCALENDAR
VERSION:2.0
PRODID:-//Hôpital Notre-Dame à la Rose - Lessines - ECPv6.15.20//NONSGML v1.0//EN
CALSCALE:GREGORIAN
METHOD:PUBLISH
X-ORIGINAL-URL:https://www.notredamealarose.be
X-WR-CALDESC:Évènements pour Hôpital Notre-Dame à la Rose - Lessines
REFRESH-INTERVAL;VALUE=DURATION:PT1H
X-Robots-Tag:noindex
X-PUBLISHED-TTL:PT1H
BEGIN:VTIMEZONE
TZID:Europe/Paris
BEGIN:DAYLIGHT
TZOFFSETFROM:+0100
TZOFFSETTO:+0200
TZNAME:CEST
DTSTART:20230326T010000
END:DAYLIGHT
BEGIN:STANDARD
TZOFFSETFROM:+0200
TZOFFSETTO:+0100
TZNAME:CET
DTSTART:20231029T010000
END:STANDARD
BEGIN:DAYLIGHT
TZOFFSETFROM:+0100
TZOFFSETTO:+0200
TZNAME:CEST
DTSTART:20240331T010000
END:DAYLIGHT
BEGIN:STANDARD
TZOFFSETFROM:+0200
TZOFFSETTO:+0100
TZNAME:CET
DTSTART:20241027T010000
END:STANDARD
BEGIN:DAYLIGHT
TZOFFSETFROM:+0100
TZOFFSETTO:+0200
TZNAME:CEST
DTSTART:20250330T010000
END:DAYLIGHT
BEGIN:STANDARD
TZOFFSETFROM:+0200
TZOFFSETTO:+0100
TZNAME:CET
DTSTART:20251026T010000
END:STANDARD
END:VTIMEZONE
BEGIN:VEVENT
DTSTART;TZID=Europe/Paris:20240313T143000
DTEND;TZID=Europe/Paris:20240313T173000
DTSTAMP:20260422T211359
CREATED:20240214T134656Z
LAST-MODIFIED:20240216T154454Z
UID:11379-1710340200-1710351000@www.notredamealarose.be
SUMMARY:Mercredis en famille - Visite théâtralisée 🎭
DESCRIPTION:Participez à une visite immersive et interactive dont vous serez les acteurs\, guidés par sœur Marie-Cécile ou un médecin. Découvrez pas à pas la vie quotidienne à l’Hôpital. Vous aurez l’opportunité de préparer une pommade en suivant une recette ancestrale ou de mettre en place l’équipement nécessaire pour une saignée…\n\n\n\n 10€ / Adulte\, 5€ / Enfant\, Gratuit pour les -6 ans !\n\n\n Boisson offerte par enfant !\n\n\n\n\n\n\n\n\n\n\nRéservez
URL:https://www.notredamealarose.be/event/mercredis-en-famille-visite-theatralisee-%f0%9f%8e%ad/
LOCATION:Arsenal des Pompiers de Lessines\, Rue des Quatre frères Aymon\, Lessines\, Hainaut\, 7860
ORGANIZER;CN="H%C3%B4pital Notre-Dame %C3%A0 la Rose":MAILTO:info@notredamelarose.be
END:VEVENT
END:VCALENDAR