BEGIN:VCALENDAR
VERSION:2.0
PRODID:-//Hôpital Notre-Dame à la Rose - Lessines - ECPv6.15.20//NONSGML v1.0//EN
CALSCALE:GREGORIAN
METHOD:PUBLISH
X-WR-CALNAME:Hôpital Notre-Dame à la Rose - Lessines
X-ORIGINAL-URL:https://www.notredamealarose.be
X-WR-CALDESC:Évènements pour Hôpital Notre-Dame à la Rose - Lessines
REFRESH-INTERVAL;VALUE=DURATION:PT1H
X-Robots-Tag:noindex
X-PUBLISHED-TTL:PT1H
BEGIN:VTIMEZONE
TZID:Europe/Paris
BEGIN:DAYLIGHT
TZOFFSETFROM:+0100
TZOFFSETTO:+0200
TZNAME:CEST
DTSTART:20230326T010000
END:DAYLIGHT
BEGIN:STANDARD
TZOFFSETFROM:+0200
TZOFFSETTO:+0100
TZNAME:CET
DTSTART:20231029T010000
END:STANDARD
BEGIN:DAYLIGHT
TZOFFSETFROM:+0100
TZOFFSETTO:+0200
TZNAME:CEST
DTSTART:20240331T010000
END:DAYLIGHT
BEGIN:STANDARD
TZOFFSETFROM:+0200
TZOFFSETTO:+0100
TZNAME:CET
DTSTART:20241027T010000
END:STANDARD
BEGIN:DAYLIGHT
TZOFFSETFROM:+0100
TZOFFSETTO:+0200
TZNAME:CEST
DTSTART:20250330T010000
END:DAYLIGHT
BEGIN:STANDARD
TZOFFSETFROM:+0200
TZOFFSETTO:+0100
TZNAME:CET
DTSTART:20251026T010000
END:STANDARD
END:VTIMEZONE
BEGIN:VEVENT
DTSTART;VALUE=DATE:20240330
DTEND;VALUE=DATE:20240513
DTSTAMP:20260422T192217
CREATED:20240214T143935Z
LAST-MODIFIED:20240214T143935Z
UID:11402-1711756800-1715558399@www.notredamealarose.be
SUMMARY:Chasse aux oeufs dans l'Hôpital Notre-Dame à la Rose
DESCRIPTION:Rejoignez-nous pour une excitante chasse aux œufs au sein de l’Hôpital Notre-Dame à la Rose. Plongez dans une aventure unique où vous devrez déchiffrer des énigmes pour découvrir des œufs cachés. À la clé ? Une délicieuse récompense de chocolat ! L’accès à cette chasse aux œufs est inclus dans votre billet d’entrée. Ne ratez pas cette occasion de vous amuser tout en explorant l’un des joyaux de notre patrimoine. \n 
URL:https://www.notredamealarose.be/event/chasse-aux-oeufs-dans-lhopital-notre-dame-a-la-rose/
LOCATION:Arsenal des Pompiers de Lessines\, Rue des Quatre frères Aymon\, Lessines\, Hainaut\, 7860
ORGANIZER;CN="H%C3%B4pital Notre-Dame %C3%A0 la Rose":MAILTO:info@notredamelarose.be
END:VEVENT
BEGIN:VEVENT
DTSTART;TZID=Europe/Paris:20240428T143000
DTEND;TZID=Europe/Paris:20240428T161500
DTSTAMP:20260422T192217
CREATED:20240322T153156Z
LAST-MODIFIED:20240322T153156Z
UID:11523-1714314600-1714320900@www.notredamealarose.be
SUMMARY:Initiations aux parfums de couleur
DESCRIPTION:Les couleurs nous accompagnent tout au long de notre vie\, elles nous soutiennent\, agissent sur nos expériences et influencent notre humeur. Nous les percevons et les utilisons de manière spontanée\, naturelle et instinctive dès notre plus jeune âge. \nElles sont en résonance directe avec nos émotions\, nos sentiments\, nos souvenirs. \nChaque couleur correspond à une synergie aromatique spécifique. \nLidwine Surmont\, naturopathe chez AORA Naturo\, vous propose un voyage coloré et olfactif pour répondre à votre besoin du moment. \nLaissez-vous guider par votre intuition et découvrez les 14 couleurs issues d’un savoir-faire provençal. \n🪙 Prix : 23€/pers\n👥 Nombre de participants max : 13 personnes \nRéservez
URL:https://www.notredamealarose.be/event/initiations-aux-parfums-de-couleur/
LOCATION:Arsenal des Pompiers de Lessines\, Rue des Quatre frères Aymon\, Lessines\, Hainaut\, 7860
ORGANIZER;CN="H%C3%B4pital Notre-Dame %C3%A0 la Rose":MAILTO:info@notredamelarose.be
END:VEVENT
END:VCALENDAR