BEGIN:VCALENDAR
VERSION:2.0
PRODID:-//Hôpital Notre-Dame à la Rose - Lessines - ECPv6.15.20//NONSGML v1.0//EN
CALSCALE:GREGORIAN
METHOD:PUBLISH
X-WR-CALNAME:Hôpital Notre-Dame à la Rose - Lessines
X-ORIGINAL-URL:https://www.notredamealarose.be
X-WR-CALDESC:Évènements pour Hôpital Notre-Dame à la Rose - Lessines
REFRESH-INTERVAL;VALUE=DURATION:PT1H
X-Robots-Tag:noindex
X-PUBLISHED-TTL:PT1H
BEGIN:VTIMEZONE
TZID:Europe/Paris
BEGIN:DAYLIGHT
TZOFFSETFROM:+0100
TZOFFSETTO:+0200
TZNAME:CEST
DTSTART:20230326T010000
END:DAYLIGHT
BEGIN:STANDARD
TZOFFSETFROM:+0200
TZOFFSETTO:+0100
TZNAME:CET
DTSTART:20231029T010000
END:STANDARD
BEGIN:DAYLIGHT
TZOFFSETFROM:+0100
TZOFFSETTO:+0200
TZNAME:CEST
DTSTART:20240331T010000
END:DAYLIGHT
BEGIN:STANDARD
TZOFFSETFROM:+0200
TZOFFSETTO:+0100
TZNAME:CET
DTSTART:20241027T010000
END:STANDARD
BEGIN:DAYLIGHT
TZOFFSETFROM:+0100
TZOFFSETTO:+0200
TZNAME:CEST
DTSTART:20250330T010000
END:DAYLIGHT
BEGIN:STANDARD
TZOFFSETFROM:+0200
TZOFFSETTO:+0100
TZNAME:CET
DTSTART:20251026T010000
END:STANDARD
END:VTIMEZONE
BEGIN:VEVENT
DTSTART;VALUE=DATE:20240518
DTEND;VALUE=DATE:20240519
DTSTAMP:20260422T175040
CREATED:20240516T073017Z
LAST-MODIFIED:20240516T073017Z
UID:11802-1715990400-1716076799@www.notredamealarose.be
SUMMARY:Journée des musées - Entrée pour deux ✌️
DESCRIPTION:Entrée pour deux\n\n\n\n\n\n\n\n\nLe 18 mai\, date du début de la Semaine des Musées belges\, nous célébrons également la Journée Internationale des Musées. Petit extra : les détenteurs du pass musées peuvent amener gratuitement une personne avec eux  ce jour-là. \nL’action ‘Entrée pour deux’ est valable dans tous les musées participants au pass musées. Découvrez ces 240 lieux merveilleux. \n\nComment ça marche ?\n\nVous avez un pass musées ? \nOrganisez une sortie avec votre frère ou votre sœur\, un(e) collègue\, vos parents ou cet(te) ami(e) qui déteste les musées\, et faites en sorte qu’ils soient aussi passionnés de musées que vous. Votre +1 s’inscrit en utilisant le formulaire ci-dessous. \nVous n’avez pas de pass musées\, mais vous êtes invité(e) à visiter un musée avec un détenteur du pass musées ?  \nFantastique ! Les détenteurs du pass musées peuvent utiliser leur pass pour visiter plus de 240 musées en Belgique pendant toute une année. Le 18 mai\, vous pouvez vous joindre à eux. Inscrivez-vous à l’aide du formulaire disponible sur la page du museum pass.
URL:https://www.notredamealarose.be/event/journee-des-musees-entree-pour-deux-%e2%9c%8c%ef%b8%8f/
LOCATION:Arsenal des Pompiers de Lessines\, Rue des Quatre frères Aymon\, Lessines\, Hainaut\, 7860
ATTACH;FMTTYPE=image/webp:https://www.notredamealarose.be/2022/wp-content/uploads/2024/05/01HWYN8P401E75Y8Z1SPER8WNC___hero_image_1003_426.webp
ORGANIZER;CN="H%C3%B4pital Notre-Dame %C3%A0 la Rose":MAILTO:info@notredamelarose.be
END:VEVENT
BEGIN:VEVENT
DTSTART;VALUE=DATE:20240518
DTEND;VALUE=DATE:20240520
DTSTAMP:20260422T175040
CREATED:20240214T131513Z
LAST-MODIFIED:20240515T080437Z
UID:11348-1715990400-1716163199@www.notredamealarose.be
SUMMARY:Le reliquaire de la Sainte-Épine a disparu
DESCRIPTION:« 𝙇𝙚 𝙧𝙚𝙡𝙞𝙦𝙪𝙖𝙞𝙧𝙚 𝙙𝙚 𝙡𝙖 𝙎𝙖𝙞𝙣𝙩𝙚 𝙀𝙥𝙞𝙣𝙚 𝙖 𝙙𝙞𝙨𝙥𝙖𝙧𝙪 ! « \n\n\n\n\n\n Une enquête palpitante\, une chasse au trésor originale pour tout public … Au sein même de l’Hôpital Notre-Dame à la Rose de Lessines\, chaque troisième week-end de chaque mois.\n\n\n« Nous sommes le 4 mai 1654.\n\n\nLa communauté des Sœurs augustines de l’hôtel-Dieu de Lessines vient de constater le vol d’un prestigieux reliquaire ! Une pièce d’orfèvrerie unique contenant l’Épine Sacrée !\n\n\nLe maître-directeur\, l’abbé de Saulchoir\, a été appelé sur les lieux et compte sur votre aide pour démêler les fils de cette bien étrange affaire.\n\n\nVenez-vous replonger au 17e siècle au sein du magnifique Hôpital Notre-Dame à la Rose ! Menez l’enquête à travers les salles du musée\, forgez-vous votre propre opinion sur les auteurs et les raisons de ce vol odieux !\n\n\nAvec votre livret d’enquête\, vous découvrirez l’Hôpital d’un autre œil\, de façon décalée…\n\n\nAttention ! Des indices se cachent partout : sur les tiroirs de la pharmacie\, dans le coin d’un retable\, derrière une porte de lambris\, ou même dans un banc-coffre du 17e siècle… »\n\n\n\n\n  \n\n\n\n\n \n\n\n\n\nRéservez
URL:https://www.notredamealarose.be/event/le-reliquaire-de-la-sainte-epine-a-disparu/
LOCATION:Arsenal des Pompiers de Lessines\, Rue des Quatre frères Aymon\, Lessines\, Hainaut\, 7860
ORGANIZER;CN="H%C3%B4pital Notre-Dame %C3%A0 la Rose":MAILTO:info@notredamelarose.be
END:VEVENT
BEGIN:VEVENT
DTSTART;TZID=Europe/Paris:20240518T100000
DTEND;TZID=Europe/Paris:20240518T120000
DTSTAMP:20260422T175040
CREATED:20240515T081659Z
LAST-MODIFIED:20240515T101602Z
UID:11743-1716026400-1716033600@www.notredamealarose.be
SUMMARY:❗ANNULÉ ❗Odyssée chromatique à travers le jardin 💐
DESCRIPTION:Samedi 18 mai 2024 à 10h \nDans ce jardin de simples\, chaque couleur et chaque plante racontent une histoire fascinante d’usages médicinaux\, illustrant le lien profond entre l’homme et la nature. \nLes lavandes violettes\, embaumant l’air d’un parfum envoûtant\, sont prisées pour leurs vertus relaxantes\, aidant à apaiser le stress et à favoriser un sommeil réparateur. \nD’un vert intense les feuilles de menthe et de basilic offrent des arômes rafraîchissants et énergisants\, idéaux pour soulager les maux digestifs et revitaliser l’esprit. \nJaune-orangé\, les calendulas ont des propriétés anti-inflammatoires et cicatrisantes\, idéales pour soulager les irritations cutanées et les petites blessures. \nPour clore cette visite\, qui fait la part belle aux couleurs\, rien de tel qu’une ntdégustation de tisane colorée. \n🪙 Prix : 10€ \n👥 Nombre de participants max : 20 personnes \n⏱️ Durée : 1h30 \nRéservez
URL:https://www.notredamealarose.be/event/odyssee-chromatique-a-travers-le-jardin-%f0%9f%92%90/
LOCATION:Arsenal des Pompiers de Lessines\, Rue des Quatre frères Aymon\, Lessines\, Hainaut\, 7860
ORGANIZER;CN="H%C3%B4pital Notre-Dame %C3%A0 la Rose":MAILTO:info@notredamelarose.be
END:VEVENT
BEGIN:VEVENT
DTSTART;TZID=Europe/Paris:20240518T103000
DTEND;TZID=Europe/Paris:20240518T160000
DTSTAMP:20260422T175040
CREATED:20240515T081416Z
LAST-MODIFIED:20240515T081416Z
UID:11738-1716028200-1716048000@www.notredamealarose.be
SUMMARY:Journée Internationale des musées 🖼️
DESCRIPTION:Samedi 18 mai 2024 à 10h30 et 14h30 \nRejoignez-nous pour une visite théâtralisée captivante où l’histoire prendra vie sous vos yeux. Vous aurez l’opportunité exceptionnelle de rencontrer un médecin d’époque\, prêt à partager avec vous les secrets de la médecine ancienne. \n🪙 Prix : gratuit ! \n👥 Nombre de participants max : 25 personnes \n⏱️ Durée : 1h30 \nRéservez
URL:https://www.notredamealarose.be/event/journee-internationale-des-musees-%f0%9f%96%bc%ef%b8%8f/
LOCATION:Arsenal des Pompiers de Lessines\, Rue des Quatre frères Aymon\, Lessines\, Hainaut\, 7860
ORGANIZER;CN="H%C3%B4pital Notre-Dame %C3%A0 la Rose":MAILTO:info@notredamelarose.be
END:VEVENT
END:VCALENDAR