BEGIN:VCALENDAR
VERSION:2.0
PRODID:-//Hôpital Notre-Dame à la Rose - Lessines - ECPv6.15.20//NONSGML v1.0//EN
CALSCALE:GREGORIAN
METHOD:PUBLISH
X-ORIGINAL-URL:https://www.notredamealarose.be
X-WR-CALDESC:Évènements pour Hôpital Notre-Dame à la Rose - Lessines
REFRESH-INTERVAL;VALUE=DURATION:PT1H
X-Robots-Tag:noindex
X-PUBLISHED-TTL:PT1H
BEGIN:VTIMEZONE
TZID:Europe/Paris
BEGIN:DAYLIGHT
TZOFFSETFROM:+0100
TZOFFSETTO:+0200
TZNAME:CEST
DTSTART:20230326T010000
END:DAYLIGHT
BEGIN:STANDARD
TZOFFSETFROM:+0200
TZOFFSETTO:+0100
TZNAME:CET
DTSTART:20231029T010000
END:STANDARD
BEGIN:DAYLIGHT
TZOFFSETFROM:+0100
TZOFFSETTO:+0200
TZNAME:CEST
DTSTART:20240331T010000
END:DAYLIGHT
BEGIN:STANDARD
TZOFFSETFROM:+0200
TZOFFSETTO:+0100
TZNAME:CET
DTSTART:20241027T010000
END:STANDARD
BEGIN:DAYLIGHT
TZOFFSETFROM:+0100
TZOFFSETTO:+0200
TZNAME:CEST
DTSTART:20250330T010000
END:DAYLIGHT
BEGIN:STANDARD
TZOFFSETFROM:+0200
TZOFFSETTO:+0100
TZNAME:CET
DTSTART:20251026T010000
END:STANDARD
END:VTIMEZONE
BEGIN:VEVENT
DTSTART;TZID=Europe/Paris:20240608T100000
DTEND;TZID=Europe/Paris:20240608T120000
DTSTAMP:20260422T161040
CREATED:20240515T082402Z
LAST-MODIFIED:20240515T101228Z
UID:11756-1717840800-1717848000@www.notredamealarose.be
SUMMARY:Odyssée chromatique à travers le jardin 💐
DESCRIPTION:Samedi 8 juin 2024 à 10h \nDans ce jardin de simples\, chaque couleur et chaque plante racontent une histoire fascinante d’usages médicinaux\, illustrant le lien profond entre l’homme et la nature. \nLes lavandes violettes\, embaumant l’air d’un parfum envoûtant\, sont prisées pour leurs vertus relaxantes\, aidant à apaiser le stress et à favoriser un sommeil réparateur. \nD’un vert intense les feuilles de menthe et de basilic offrent des arômes rafraîchissants et énergisants\, idéaux pour soulager les maux digestifs et revitaliser l’esprit. \nJaune-orangé\, les calendulas ont des propriétés anti-inflammatoires et cicatrisantes\, idéales pour soulager les irritations cutanées et les petites blessures. \nPour clore cette visite\, qui fait la part belle aux couleurs\, rien de tel qu’une dégustation de tisane colorée. \n🪙 Prix : 10€ \n👥 Nombre de participants max : 20 personnes \n⏱️ Durée : 1h30 \nRéservez
URL:https://www.notredamealarose.be/event/odyssee-chromatique-a-travers-le-jardin-%f0%9f%92%90-2/
LOCATION:Arsenal des Pompiers de Lessines\, Rue des Quatre frères Aymon\, Lessines\, Hainaut\, 7860
ATTACH;FMTTYPE=image/jpeg:https://www.notredamealarose.be/2022/wp-content/uploads/2024/05/DSC_1060.jpg
ORGANIZER;CN="H%C3%B4pital Notre-Dame %C3%A0 la Rose":MAILTO:info@notredamelarose.be
END:VEVENT
END:VCALENDAR