BEGIN:VCALENDAR
VERSION:2.0
PRODID:-//Hôpital Notre-Dame à la Rose - Lessines - ECPv6.15.20//NONSGML v1.0//EN
CALSCALE:GREGORIAN
METHOD:PUBLISH
X-WR-CALNAME:Hôpital Notre-Dame à la Rose - Lessines
X-ORIGINAL-URL:https://www.notredamealarose.be
X-WR-CALDESC:Évènements pour Hôpital Notre-Dame à la Rose - Lessines
REFRESH-INTERVAL;VALUE=DURATION:PT1H
X-Robots-Tag:noindex
X-PUBLISHED-TTL:PT1H
BEGIN:VTIMEZONE
TZID:Europe/Paris
BEGIN:DAYLIGHT
TZOFFSETFROM:+0100
TZOFFSETTO:+0200
TZNAME:CEST
DTSTART:20230326T010000
END:DAYLIGHT
BEGIN:STANDARD
TZOFFSETFROM:+0200
TZOFFSETTO:+0100
TZNAME:CET
DTSTART:20231029T010000
END:STANDARD
BEGIN:DAYLIGHT
TZOFFSETFROM:+0100
TZOFFSETTO:+0200
TZNAME:CEST
DTSTART:20240331T010000
END:DAYLIGHT
BEGIN:STANDARD
TZOFFSETFROM:+0200
TZOFFSETTO:+0100
TZNAME:CET
DTSTART:20241027T010000
END:STANDARD
BEGIN:DAYLIGHT
TZOFFSETFROM:+0100
TZOFFSETTO:+0200
TZNAME:CEST
DTSTART:20250330T010000
END:DAYLIGHT
BEGIN:STANDARD
TZOFFSETFROM:+0200
TZOFFSETTO:+0100
TZNAME:CET
DTSTART:20251026T010000
END:STANDARD
END:VTIMEZONE
BEGIN:VEVENT
DTSTART;VALUE=DATE:20240615
DTEND;VALUE=DATE:20240617
DTSTAMP:20260422T175043
CREATED:20240515T081939Z
LAST-MODIFIED:20240515T081939Z
UID:11748-1718409600-1718582399@www.notredamealarose.be
SUMMARY:Le reliquaire de la Sainte Épine a disparu ! 🕵🏻
DESCRIPTION:« 𝙇𝙚 𝙧𝙚𝙡𝙞𝙦𝙪𝙖𝙞𝙧𝙚 𝙙𝙚 𝙡𝙖 𝙎𝙖𝙞𝙣𝙩𝙚 𝙀𝙥𝙞𝙣𝙚 𝙖 𝙙𝙞𝙨𝙥𝙖𝙧𝙪 ! «\n\n\n\n\n\n Une enquête palpitante\, une chasse au trésor originale pour tout public … Au sein même de l’Hôpital Notre-Dame à la Rose de Lessines\, chaque troisième week-end de chaque mois.\n\n\n« Nous sommes le 4 mai 1654.\n\n\nLa communauté des Sœurs augustines de l’hôtel-Dieu de Lessines vient de constater le vol d’un prestigieux reliquaire ! Une pièce d’orfèvrerie unique contenant l’Épine Sacrée !\n\n\nLe maître-directeur\, l’abbé de Saulchoir\, a été appelé sur les lieux et compte sur votre aide pour démêler les fils de cette bien étrange affaire.\n\n\nVenez-vous replonger au 17e siècle au sein du magnifique Hôpital Notre-Dame à la Rose ! Menez l’enquête à travers les salles du musée\, forgez-vous votre propre opinion sur les auteurs et les raisons de ce vol odieux !\n\n\nAvec votre livret d’enquête\, vous découvrirez l’Hôpital d’un autre œil\, de façon décalée…\n\n\nAttention ! Des indices se cachent partout : sur les tiroirs de la pharmacie\, dans le coin d’un retable\, derrière une porte de lambris\, ou même dans un banc-coffre du 17e siècle… »\n\n\n\nRéservez
URL:https://www.notredamealarose.be/event/le-reliquaire-de-la-sainte-epine-a-disparu-%f0%9f%95%b5%f0%9f%8f%bb/
LOCATION:Arsenal des Pompiers de Lessines\, Rue des Quatre frères Aymon\, Lessines\, Hainaut\, 7860
ORGANIZER;CN="H%C3%B4pital Notre-Dame %C3%A0 la Rose":MAILTO:info@notredamelarose.be
END:VEVENT
BEGIN:VEVENT
DTSTART;VALUE=DATE:20240615
DTEND;VALUE=DATE:20240617
DTSTAMP:20260422T175043
CREATED:20240515T082540Z
LAST-MODIFIED:20240604T092129Z
UID:11758-1718409600-1718582399@www.notredamealarose.be
SUMMARY:Le reliquaire de la Sainte Épine a disparu ! 🕵🏻
DESCRIPTION:« 𝙇𝙚 𝙧𝙚𝙡𝙞𝙦𝙪𝙖𝙞𝙧𝙚 𝙙𝙚 𝙡𝙖 𝙎𝙖𝙞𝙣𝙩𝙚 𝙀𝙥𝙞𝙣𝙚 𝙖 𝙙𝙞𝙨𝙥𝙖𝙧𝙪 ! «\n\n\n\n\n\n Une enquête palpitante\, une chasse au trésor originale pour tout public … Au sein même de l’Hôpital Notre-Dame à la Rose de Lessines\, chaque troisième week-end de chaque mois.\n\n\n« Nous sommes le 4 mai 1654.\n\n\nLa communauté des Sœurs augustines de l’hôtel-Dieu de Lessines vient de constater le vol d’un prestigieux reliquaire ! Une pièce d’orfèvrerie unique contenant l’Épine Sacrée !\n\n\nLe maître-directeur\, l’abbé de Saulchoir\, a été appelé sur les lieux et compte sur votre aide pour démêler les fils de cette bien étrange affaire.\n\n\nVenez-vous replonger au 17e siècle au sein du magnifique Hôpital Notre-Dame à la Rose ! Menez l’enquête à travers les salles du musée\, forgez-vous votre propre opinion sur les auteurs et les raisons de ce vol odieux !\n\n\nAvec votre livret d’enquête\, vous découvrirez l’Hôpital d’un autre œil\, de façon décalée…\n\n\nAttention ! Des indices se cachent partout : sur les tiroirs de la pharmacie\, dans le coin d’un retable\, derrière une porte de lambris\, ou même dans un banc-coffre du 17e siècle… »\n\n\n\n\n\nRéservez
URL:https://www.notredamealarose.be/event/le-reliquaire-de-la-sainte-epine-a-disparu-%f0%9f%95%b5%f0%9f%8f%bb-2/
LOCATION:Arsenal des Pompiers de Lessines\, Rue des Quatre frères Aymon\, Lessines\, Hainaut\, 7860
ORGANIZER;CN="H%C3%B4pital Notre-Dame %C3%A0 la Rose":MAILTO:info@notredamelarose.be
END:VEVENT
BEGIN:VEVENT
DTSTART;VALUE=DATE:20240616
DTEND;VALUE=DATE:20240617
DTSTAMP:20260422T175043
CREATED:20240515T082711Z
LAST-MODIFIED:20240518T065531Z
UID:11761-1718496000-1718582399@www.notredamealarose.be
SUMMARY:Atelier “Plantes tinctoriales médicinales” 🌿
DESCRIPTION:Le dimanche 16 juin 2024 à 9h30 (toute la journée) \n\nDu rouge garance au bleu pastel\, des plantes sauvages en passant par nos fruits et légumes\, venez vous initier aux teintures naturelles sur fibres animales et végétales. Étonnez-vous lors d’une expérience inoubliable ! \n🪙 Prix : 35€/pers avec possibilité de réserver un lunch à La Table d’Alix au prix de 15€ (deux choix possibles). Réservation du lunch via \nBarestho en mettant comme note « Atelier » \nLors de votre lunch à La Table d’Alix\, vous aurez le choix entre : \nSalade d’orzo à la grecque 🥗 ou \nJoue de boeuf 🍖 \n👥 Nombre de participants max : 15 pers \nRéservez
URL:https://www.notredamealarose.be/event/atelier-plantes-tinctoriales-medicinales-%f0%9f%8c%bf/
LOCATION:Arsenal des Pompiers de Lessines\, Rue des Quatre frères Aymon\, Lessines\, Hainaut\, 7860
ORGANIZER;CN="H%C3%B4pital Notre-Dame %C3%A0 la Rose":MAILTO:info@notredamelarose.be
END:VEVENT
END:VCALENDAR