BEGIN:VCALENDAR
VERSION:2.0
PRODID:-//Hôpital Notre-Dame à la Rose - Lessines - ECPv6.15.20//NONSGML v1.0//EN
CALSCALE:GREGORIAN
METHOD:PUBLISH
X-WR-CALNAME:Hôpital Notre-Dame à la Rose - Lessines
X-ORIGINAL-URL:https://www.notredamealarose.be
X-WR-CALDESC:Évènements pour Hôpital Notre-Dame à la Rose - Lessines
REFRESH-INTERVAL;VALUE=DURATION:PT1H
X-Robots-Tag:noindex
X-PUBLISHED-TTL:PT1H
BEGIN:VTIMEZONE
TZID:Europe/Paris
BEGIN:DAYLIGHT
TZOFFSETFROM:+0100
TZOFFSETTO:+0200
TZNAME:CEST
DTSTART:20230326T010000
END:DAYLIGHT
BEGIN:STANDARD
TZOFFSETFROM:+0200
TZOFFSETTO:+0100
TZNAME:CET
DTSTART:20231029T010000
END:STANDARD
BEGIN:DAYLIGHT
TZOFFSETFROM:+0100
TZOFFSETTO:+0200
TZNAME:CEST
DTSTART:20240331T010000
END:DAYLIGHT
BEGIN:STANDARD
TZOFFSETFROM:+0200
TZOFFSETTO:+0100
TZNAME:CET
DTSTART:20241027T010000
END:STANDARD
BEGIN:DAYLIGHT
TZOFFSETFROM:+0100
TZOFFSETTO:+0200
TZNAME:CEST
DTSTART:20250330T010000
END:DAYLIGHT
BEGIN:STANDARD
TZOFFSETFROM:+0200
TZOFFSETTO:+0100
TZNAME:CET
DTSTART:20251026T010000
END:STANDARD
END:VTIMEZONE
BEGIN:VEVENT
DTSTART;TZID=Europe/Paris:20240825T140000
DTEND;TZID=Europe/Paris:20240825T170000
DTSTAMP:20260422T124004
CREATED:20240820T095050Z
LAST-MODIFIED:20240820T095209Z
UID:12231-1724594400-1724605200@www.notredamealarose.be
SUMMARY:𝗔𝘁𝗲𝗹𝗶𝗲𝗿 𝗖𝘆𝗮𝗻𝗼𝘁𝘆𝗽𝗲 🧑🏻‍🔬
DESCRIPTION:Le cyanotype est un procédé photographique qui crée un tirage cyano-bleu après développement.\n\n\n\nAu cours de cet atelier\, vous serez initié à ce procédé photographique simple. Ce dont nous avons besoin\, ce sont deux produits chimiques sûrs et la lumière du soleil ou un soleil artificiel\, à savoir une lampe UV. \n\n\n\n Dimanche 25 août à 14h\n 20€/personne\n Max. 12 personnes \nRéservez
URL:https://www.notredamealarose.be/event/%f0%9d%97%94%f0%9d%98%81%f0%9d%97%b2%f0%9d%97%b9%f0%9d%97%b6%f0%9d%97%b2%f0%9d%97%bf-%f0%9d%97%96%f0%9d%98%86%f0%9d%97%ae%f0%9d%97%bb%f0%9d%97%bc%f0%9d%98%81%f0%9d%98%86%f0%9d%97%bd%f0%9d%97%b2/
LOCATION:Arsenal des Pompiers de Lessines\, Rue des Quatre frères Aymon\, Lessines\, Hainaut\, 7860
ATTACH;FMTTYPE=image/jpeg:https://www.notredamealarose.be/2022/wp-content/uploads/2024/08/DALL·E-2024-08-05-13.42.31-A-cyanotype-image-featuring-a-delicate-botanical-design.jpg
ORGANIZER;CN="H%C3%B4pital Notre-Dame %C3%A0 la Rose":MAILTO:info@notredamelarose.be
END:VEVENT
END:VCALENDAR