BEGIN:VCALENDAR
VERSION:2.0
PRODID:-//Hôpital Notre-Dame à la Rose - Lessines - ECPv6.15.20//NONSGML v1.0//EN
CALSCALE:GREGORIAN
METHOD:PUBLISH
X-WR-CALNAME:Hôpital Notre-Dame à la Rose - Lessines
X-ORIGINAL-URL:https://www.notredamealarose.be
X-WR-CALDESC:Évènements pour Hôpital Notre-Dame à la Rose - Lessines
REFRESH-INTERVAL;VALUE=DURATION:PT1H
X-Robots-Tag:noindex
X-PUBLISHED-TTL:PT1H
BEGIN:VTIMEZONE
TZID:Europe/Paris
BEGIN:DAYLIGHT
TZOFFSETFROM:+0100
TZOFFSETTO:+0200
TZNAME:CEST
DTSTART:20230326T010000
END:DAYLIGHT
BEGIN:STANDARD
TZOFFSETFROM:+0200
TZOFFSETTO:+0100
TZNAME:CET
DTSTART:20231029T010000
END:STANDARD
BEGIN:DAYLIGHT
TZOFFSETFROM:+0100
TZOFFSETTO:+0200
TZNAME:CEST
DTSTART:20240331T010000
END:DAYLIGHT
BEGIN:STANDARD
TZOFFSETFROM:+0200
TZOFFSETTO:+0100
TZNAME:CET
DTSTART:20241027T010000
END:STANDARD
BEGIN:DAYLIGHT
TZOFFSETFROM:+0100
TZOFFSETTO:+0200
TZNAME:CEST
DTSTART:20250330T010000
END:DAYLIGHT
BEGIN:STANDARD
TZOFFSETFROM:+0200
TZOFFSETTO:+0100
TZNAME:CET
DTSTART:20251026T010000
END:STANDARD
END:VTIMEZONE
BEGIN:VEVENT
DTSTART;TZID=Europe/Paris:20241027T103000
DTEND;TZID=Europe/Paris:20241027T173000
DTSTAMP:20260422T085304
CREATED:20240924T065003Z
LAST-MODIFIED:20241023T142513Z
UID:12309-1730025000-1730050200@www.notredamealarose.be
SUMMARY:Archéoclown ! 🎪
DESCRIPTION:Le dimanche 27 octobre 2024 à partir de 10h30 ! \n\n\n\n\n\n\n\n\n\n\n\n\n\n\n\n 7 départs dans la journée :  10h30\, 11h30\, 12h30\, 14h30\, 15h30\, 16h30 et 17h30\n\n\n\nLors d’une simple fouille de routine\, un clown a brisé un vieux pot enterré… et maintenant\, il est persuadé d’avoir libéré une ancienne souche de la peste !  La nouvelle se répand comme une traînée de poudre\, et c’est la panique chez les autres clowns\, qui se lancent tête baissée dans une frénésie collective… \n\n\n\n Entre fous rires\, situations absurdes et quelques frissons\, cette histoire improbable nous rappelle que parfois\, il suffit d’un rien pour que tout parte en vrille ! \n\n\nUne manière ludique de découvrir le musée en famille ! \n\n Inclus dans le prix du musée\, gratuit avec le museumpass et gratuit pour les Lessinois avec le code promo « 7860 » et votre carte ID ! \n\n\n\n\n\n\n\n\n\n\nRéservation
URL:https://www.notredamealarose.be/event/archeoclown-%f0%9f%8e%aa/
LOCATION:Arsenal des Pompiers de Lessines\, Rue des Quatre frères Aymon\, Lessines\, Hainaut\, 7860
ATTACH;FMTTYPE=image/jpeg:https://www.notredamealarose.be/2022/wp-content/uploads/2024/09/03439117-466c-bf39-a339-c366d75830d8.jpeg
ORGANIZER;CN="H%C3%B4pital Notre-Dame %C3%A0 la Rose":MAILTO:info@notredamelarose.be
END:VEVENT
END:VCALENDAR