BEGIN:VCALENDAR
VERSION:2.0
PRODID:-//Hôpital Notre-Dame à la Rose - Lessines - ECPv6.15.20//NONSGML v1.0//EN
CALSCALE:GREGORIAN
METHOD:PUBLISH
X-WR-CALNAME:Hôpital Notre-Dame à la Rose - Lessines
X-ORIGINAL-URL:https://www.notredamealarose.be
X-WR-CALDESC:Évènements pour Hôpital Notre-Dame à la Rose - Lessines
REFRESH-INTERVAL;VALUE=DURATION:PT1H
X-Robots-Tag:noindex
X-PUBLISHED-TTL:PT1H
BEGIN:VTIMEZONE
TZID:Europe/Paris
BEGIN:DAYLIGHT
TZOFFSETFROM:+0100
TZOFFSETTO:+0200
TZNAME:CEST
DTSTART:20230326T010000
END:DAYLIGHT
BEGIN:STANDARD
TZOFFSETFROM:+0200
TZOFFSETTO:+0100
TZNAME:CET
DTSTART:20231029T010000
END:STANDARD
BEGIN:DAYLIGHT
TZOFFSETFROM:+0100
TZOFFSETTO:+0200
TZNAME:CEST
DTSTART:20240331T010000
END:DAYLIGHT
BEGIN:STANDARD
TZOFFSETFROM:+0200
TZOFFSETTO:+0100
TZNAME:CET
DTSTART:20241027T010000
END:STANDARD
BEGIN:DAYLIGHT
TZOFFSETFROM:+0100
TZOFFSETTO:+0200
TZNAME:CEST
DTSTART:20250330T010000
END:DAYLIGHT
BEGIN:STANDARD
TZOFFSETFROM:+0200
TZOFFSETTO:+0100
TZNAME:CET
DTSTART:20251026T010000
END:STANDARD
END:VTIMEZONE
BEGIN:VEVENT
DTSTART;VALUE=DATE:20241121
DTEND;VALUE=DATE:20241125
DTSTAMP:20260422T070909
CREATED:20241105T151634Z
LAST-MODIFIED:20241105T151634Z
UID:12390-1732147200-1732492799@www.notredamealarose.be
SUMMARY:Fêtons les 126 ans de Magritte 🎩
DESCRIPTION:En suivant Patrick Corillon dans les méandres de La Rivière bien nommée\, en plongeant le regard dans les photographies d’Olivier Cornil\, entre Friche et Nuage\,  en découvrant Les vacances d’un enfant\, le roman de Louis Scutenaire spécialement réédité et imprégné de la nostalgie de son village\, en accueillant Alain Delaunois\, spécialiste du surréalisme interviewé par le journaliste Gorian Delpature\, nous poserons de nouveaux regards sur les paysages et les visages de Lessines… tout en mettant au jour l’Atlas de Lessines\, avec la première mouture du parcours Magritte On The Rocks. \nRéservez vos places pour un voyage sans bagages.\nCar lorsque l’on se glisse dans les pas de Magritte et Scutenaire\, nous découvrons des territoires contrastés aux potentialités insoupçonnées… \nPlus d’infos
URL:https://www.notredamealarose.be/event/fetons-les-126-ans-de-magritte-%f0%9f%8e%a9/
LOCATION:Arsenal des Pompiers de Lessines\, Rue des Quatre frères Aymon\, Lessines\, Hainaut\, 7860
ATTACH;FMTTYPE=image/jpeg:https://www.notredamealarose.be/2022/wp-content/uploads/2024/11/MOTR-Affiche-126-ANS-1086x1536-1.jpg
ORGANIZER;CN="H%C3%B4pital Notre-Dame %C3%A0 la Rose":MAILTO:info@notredamelarose.be
END:VEVENT
BEGIN:VEVENT
DTSTART;TZID=Europe/Paris:20241123T140000
DTEND;TZID=Europe/Paris:20241123T170000
DTSTAMP:20260422T070909
CREATED:20241105T151230Z
LAST-MODIFIED:20241105T151230Z
UID:12388-1732370400-1732381200@www.notredamealarose.be
SUMMARY:Les couleurs à l’Hôpital 🎨
DESCRIPTION:Les samedis 23 novembre et 21 décembre 2024 à 14h \nÀ l’Hôpital\, la couleur est omniprésente : des emblématiques draps rouges de la salle des malades aux douces teintes pastel des façades\, sans oublier les nombreuses œuvres d’art. Même l’orgue nous offre les « couleurs du vent » ! À l’époque\, ces couleurs n’étaient pas choisies au hasard. Venez découvrir leur symbolique et leurs usages. \nTarifs 🪙 \n10€/adulte\, 5€/ enfant \nRéservation
URL:https://www.notredamealarose.be/event/les-couleurs-a-lhopital-%f0%9f%8e%a8/
LOCATION:Arsenal des Pompiers de Lessines\, Rue des Quatre frères Aymon\, Lessines\, Hainaut\, 7860
ATTACH;FMTTYPE=image/jpeg:https://www.notredamealarose.be/2022/wp-content/uploads/2024/05/DSC_1060.jpg
ORGANIZER;CN="H%C3%B4pital Notre-Dame %C3%A0 la Rose":MAILTO:info@notredamelarose.be
END:VEVENT
END:VCALENDAR