BEGIN:VCALENDAR
VERSION:2.0
PRODID:-//Hôpital Notre-Dame à la Rose - Lessines - ECPv6.15.20//NONSGML v1.0//EN
CALSCALE:GREGORIAN
METHOD:PUBLISH
X-WR-CALNAME:Hôpital Notre-Dame à la Rose - Lessines
X-ORIGINAL-URL:https://www.notredamealarose.be
X-WR-CALDESC:Évènements pour Hôpital Notre-Dame à la Rose - Lessines
REFRESH-INTERVAL;VALUE=DURATION:PT1H
X-Robots-Tag:noindex
X-PUBLISHED-TTL:PT1H
BEGIN:VTIMEZONE
TZID:Europe/Paris
BEGIN:DAYLIGHT
TZOFFSETFROM:+0100
TZOFFSETTO:+0200
TZNAME:CEST
DTSTART:20250330T010000
END:DAYLIGHT
BEGIN:STANDARD
TZOFFSETFROM:+0200
TZOFFSETTO:+0100
TZNAME:CET
DTSTART:20251026T010000
END:STANDARD
BEGIN:DAYLIGHT
TZOFFSETFROM:+0100
TZOFFSETTO:+0200
TZNAME:CEST
DTSTART:20260329T010000
END:DAYLIGHT
BEGIN:STANDARD
TZOFFSETFROM:+0200
TZOFFSETTO:+0100
TZNAME:CET
DTSTART:20261025T010000
END:STANDARD
BEGIN:DAYLIGHT
TZOFFSETFROM:+0100
TZOFFSETTO:+0200
TZNAME:CEST
DTSTART:20270328T010000
END:DAYLIGHT
BEGIN:STANDARD
TZOFFSETFROM:+0200
TZOFFSETTO:+0100
TZNAME:CET
DTSTART:20271031T010000
END:STANDARD
END:VTIMEZONE
BEGIN:VEVENT
DTSTART;TZID=Europe/Paris:20260315T143000
DTEND;TZID=Europe/Paris:20260315T160000
DTSTAMP:20260420T211242
CREATED:20260226T153625Z
LAST-MODIFIED:20260306T160914Z
UID:14026-1773585000-1773590400@www.notredamealarose.be
SUMMARY:Atelier créatif #1 - "Les secrets du chef"
DESCRIPTION:Les ATELIERS CRÉATIFS auront lieu tous les 2e week-ends du mois jusque septembre 2026.\n Notre tout premier atelier en mars s’intitule Les secrets du chef et sera animé par Tristan Petiaux\, notre chef à La Table d’Alix.Au menu : préparation d’un cookie à la méthode du chef.Une recette simple\, accessible à tous et ultra gourmande !\n  Avec les conseils avisés du Chef de La Table d’Alix\, Tristan Petiaux\, plongez dans les secrets d’un cookie trois étoiles ✨.\nApprenez les bons gestes\, découvrez les astuces de chef et composez votre propre pâte selon vos envies (chocolat\, fruits secs\, épices…).\nRepartez avec votre pâton personnalisé\, prêt à être enfourné à la maison\, et terminez l’atelier par une dégustation gourmande des différentes créations du chef.\n\n Rendez-vous le dimanche 15 mars à 14h30 (durée 1h30) à L’Écuelle\, au sein de l’Hôpital Notre-Dame à la Rose.\n👋 Pour adultes et enfants à partir de 12 ans.\n🎫 Tarif : 10 € par personne. Réduction de 2€ pour les Lessinois sur présentation de la carte d’identité.\n🔗 Le nombre de place est limité à 15 participants et la réservation est nécessaire via le formulaire en ligne accessible ici.\n\nRestez connectés pour connaître la suite de notre programme d’ateliers\, bientôt disponibles sur notre site web.
URL:https://www.notredamealarose.be/event/atelier-creatif-1-les-secrets-du-chef/
LOCATION:La Table d’Alix\, Grand'Rue 47\, Lessines\, Hainaut\, 7860\, Belgium
CATEGORIES:Actualités,Animations
ORGANIZER;CN="H%C3%B4pital Notre-Dame %C3%A0 la Rose":MAILTO:info@notredamelarose.be
END:VEVENT
END:VCALENDAR