BEGIN:VCALENDAR
VERSION:2.0
PRODID:-//Hôpital Notre-Dame à la Rose - Lessines - ECPv6.15.20//NONSGML v1.0//EN
CALSCALE:GREGORIAN
METHOD:PUBLISH
X-ORIGINAL-URL:https://www.notredamealarose.be
X-WR-CALDESC:Évènements pour Hôpital Notre-Dame à la Rose - Lessines
REFRESH-INTERVAL;VALUE=DURATION:PT1H
X-Robots-Tag:noindex
X-PUBLISHED-TTL:PT1H
BEGIN:VTIMEZONE
TZID:Europe/Paris
BEGIN:DAYLIGHT
TZOFFSETFROM:+0100
TZOFFSETTO:+0200
TZNAME:CEST
DTSTART:20250330T010000
END:DAYLIGHT
BEGIN:STANDARD
TZOFFSETFROM:+0200
TZOFFSETTO:+0100
TZNAME:CET
DTSTART:20251026T010000
END:STANDARD
BEGIN:DAYLIGHT
TZOFFSETFROM:+0100
TZOFFSETTO:+0200
TZNAME:CEST
DTSTART:20260329T010000
END:DAYLIGHT
BEGIN:STANDARD
TZOFFSETFROM:+0200
TZOFFSETTO:+0100
TZNAME:CET
DTSTART:20261025T010000
END:STANDARD
BEGIN:DAYLIGHT
TZOFFSETFROM:+0100
TZOFFSETTO:+0200
TZNAME:CEST
DTSTART:20270328T010000
END:DAYLIGHT
BEGIN:STANDARD
TZOFFSETFROM:+0200
TZOFFSETTO:+0100
TZNAME:CET
DTSTART:20271031T010000
END:STANDARD
END:VTIMEZONE
BEGIN:VEVENT
DTSTART;TZID=Europe/Paris:20260412T143000
DTEND;TZID=Europe/Paris:20260412T163000
DTSTAMP:20260420T175450
CREATED:20260327T113634Z
LAST-MODIFIED:20260327T113846Z
UID:14185-1776004200-1776011400@www.notredamealarose.be
SUMMARY:Atelier créatif # 2 - Création de bougie en cire naturelle
DESCRIPTION:  \n\n\n\n\n\n\n\n\n\n\n\n\n\n\n\n\n\n\nLe dimanche 12 avril de 14h30 à 16h30Par Fanny de chez Cajun\n\n\n Envie de créer votre propre bougie ? Pendant deux heures\, plongez dans un atelier créatif et sensoriel et réalisez une bougie parfumée unique. À partir de cire végétale et de parfums sans composé toxique\, découvrez les étapes de fabrication d’une bougie unique qui vous ressemble. Choisissez ensuite votre parfum préféré et personnalisez votre création avec de délicates fleurs séchées pour un résultat aussi beau que parfumé.\n\n\n Tarifs : 30€/personne (adulte) et 45€ pour un duo parent-enfant\n👉 Inscriptions via ce lien.\n🔗 Lien vers l’événement facebook.
URL:https://www.notredamealarose.be/event/atelier-creatif-2-creation-de-bougie-en-cire-naturelle/
LOCATION:Hopital Notre-Dame à la Rose
CATEGORIES:Actualités,Animations
ORGANIZER;CN="H%C3%B4pital Notre-Dame %C3%A0 la Rose":MAILTO:info@notredamelarose.be
END:VEVENT
END:VCALENDAR