BEGIN:VCALENDAR
VERSION:2.0
PRODID:-//Hôpital Notre-Dame à la Rose - Lessines - ECPv6.15.20//NONSGML v1.0//EN
CALSCALE:GREGORIAN
METHOD:PUBLISH
X-WR-CALNAME:Hôpital Notre-Dame à la Rose - Lessines
X-ORIGINAL-URL:https://www.notredamealarose.be
X-WR-CALDESC:Évènements pour Hôpital Notre-Dame à la Rose - Lessines
REFRESH-INTERVAL;VALUE=DURATION:PT1H
X-Robots-Tag:noindex
X-PUBLISHED-TTL:PT1H
BEGIN:VTIMEZONE
TZID:Europe/Paris
BEGIN:DAYLIGHT
TZOFFSETFROM:+0100
TZOFFSETTO:+0200
TZNAME:CEST
DTSTART:20230326T010000
END:DAYLIGHT
BEGIN:STANDARD
TZOFFSETFROM:+0200
TZOFFSETTO:+0100
TZNAME:CET
DTSTART:20231029T010000
END:STANDARD
BEGIN:DAYLIGHT
TZOFFSETFROM:+0100
TZOFFSETTO:+0200
TZNAME:CEST
DTSTART:20240331T010000
END:DAYLIGHT
BEGIN:STANDARD
TZOFFSETFROM:+0200
TZOFFSETTO:+0100
TZNAME:CET
DTSTART:20241027T010000
END:STANDARD
BEGIN:DAYLIGHT
TZOFFSETFROM:+0100
TZOFFSETTO:+0200
TZNAME:CEST
DTSTART:20250330T010000
END:DAYLIGHT
BEGIN:STANDARD
TZOFFSETFROM:+0200
TZOFFSETTO:+0100
TZNAME:CET
DTSTART:20251026T010000
END:STANDARD
END:VTIMEZONE
BEGIN:VEVENT
DTSTART;VALUE=DATE:20240705
DTEND;VALUE=DATE:20240707
DTSTAMP:20260422T123955
CREATED:20240610T134953Z
LAST-MODIFIED:20240628T120815Z
UID:11961-1720137600-1720310399@www.notredamealarose.be
SUMMARY:Les secrets du jardin médiéval
DESCRIPTION:Les vendredi 5 juillet et samedi 6 juillet 2024 \nLe vendredi (nocturne) le musée ouvre ses portes jusque 21h (dernière entrée).\nLe samedi\, Sire Nicolas effectuera ses activités dans le musée à partir de 11h et dans le jardin à partir de 14h. \nEn compagnie de sire Nicolas\, venez faire la visite d’un véritable paradis ! Car tel était le nom donné aux jardins d’autrefois. \nComment les jardins étaient-ils conçus au Moyen-Age ? Quelle était leur symbolique ? \nSire Nicolas\, mire et fusicien\, vous dira tout à ce sujet … sans oublier l’histoire\, les usages et légendes de quelques illustres herbes médicinales ou tinctoriales du jardin de l’Hôpital Notre-Dame à la Rose . \nC’est aussi tout un monde de couleurs et de merveilles\, parfois insolites\, à découvrir au travers des manuscrits et herbiers médiévaux qui orneront cette visite au jardin. \nRéservez votre ticket au musée : https://tinyurl.com/5cshyrmp \nPrenez également le temps de vous restaurer à  La Table d’Alix  en réservant votre table via l’outil de réservation Barestho ! \n  \n Réservez votre table
URL:https://www.notredamealarose.be/event/les-secrets-du-jardin-medieval/
LOCATION:Arsenal des Pompiers de Lessines\, Rue des Quatre frères Aymon\, Lessines\, Hainaut\, 7860
ATTACH;FMTTYPE=image/jpeg:https://www.notredamealarose.be/2022/wp-content/uploads/2024/06/Sire-Nicolas-e1718346349764.jpg
ORGANIZER;CN="H%C3%B4pital Notre-Dame %C3%A0 la Rose":MAILTO:info@notredamelarose.be
END:VEVENT
BEGIN:VEVENT
DTSTART;VALUE=DATE:20240705
DTEND;VALUE=DATE:20240707
DTSTAMP:20260422T123955
CREATED:20240610T135245Z
LAST-MODIFIED:20240628T120859Z
UID:11967-1720137600-1720310399@www.notredamealarose.be
SUMMARY:Couleurs et soins dans la médecine médiéval
DESCRIPTION:Les vendredi 5 juillet et samedi 6 juillet 2024 \nLe vendredi (nocturne) le musée ouvre ses portes jusque 21h (dernière entrée).\nLe samedi\, Sire Nicolas effectuera ses activités dans le musée à partir de 11h et dans le jardin à partir de 14h. \n  \nChez tous les grands médecins à travers l’Histoire\, la couleur a toujours été vue comme un élément fondamental en matière de santé et de soins du corps ou de l’âme. \nSire Nicolas\, mire et fusicien\, vous présente les secrets de l’uroscopie ou comment interpréter la couleur des urines avec la « Roue des Couleurs ». Un art essentiel pour le médecin médiéval ! \n  \nUn peu apothicaire\, il vous exposera également les vertus et couleurs de l’arsenal thérapeutique\, où remède ou poison\, va de de la couleur qui soigne à la couleur qui tue. \nIl vous présentera enfin le curieux manuscrit médical de Liège\, manuscrit inachevé\, auquel il ne lui manque …que la couleur ! \nTout au long de ces moments d’échange\, vous pourrez assister à quelques expériences amusantes pour des moments inoubliables et hauts en couleurs ! \n  \nRéservez votre ticket au musée : https://tinyurl.com/5cshyrmp \n  \nPrenez également le temps de vous restaurer à  La Table d’Alix  en réservant votre table via l’outil de réservation Barestho ! \n  \n Réservez votre table
URL:https://www.notredamealarose.be/event/couleurs-et-soins-dans-la-medecine-medieval/
LOCATION:Arsenal des Pompiers de Lessines\, Rue des Quatre frères Aymon\, Lessines\, Hainaut\, 7860
ATTACH;FMTTYPE=image/jpeg:https://www.notredamealarose.be/2022/wp-content/uploads/2024/06/Nicolas-lapothicaire1.jpg
ORGANIZER;CN="H%C3%B4pital Notre-Dame %C3%A0 la Rose":MAILTO:info@notredamelarose.be
END:VEVENT
BEGIN:VEVENT
DTSTART;TZID=Europe/Paris:20240705T180000
DTEND;TZID=Europe/Paris:20240705T220000
DTSTAMP:20260422T123955
CREATED:20240613T123656Z
LAST-MODIFIED:20240617T095336Z
UID:11973-1720202400-1720216800@www.notredamealarose.be
SUMMARY:✨ 𝗡𝗼𝗰𝘁𝘂𝗿𝗻𝗲 𝘀𝗽𝗲́𝗰𝗶𝗮𝗹𝗲 𝗹𝗲 𝟱 𝗷𝘂𝗶𝗹𝗹𝗲𝘁\, 𝗱𝗲 𝟭8𝗵 𝗮̀ 𝟮𝟮𝗵 ! ✨
DESCRIPTION:À la tombée du soir\, en plus des activités de Sire Nicolas\, plongez dans l’univers mystérieux des plantes de sorcières avec Marc ! 🔮\n\n\n \n\n\n📅 Programme de cette visite-conférence « plantes de sorcières » :\n\n\n18h – Début de la conférence sur l’histoire de la sorcellerie et le procès des sorcières à Lessines au 17e siècle.\n\n\n18h45 – Pause (souper)\n\n\n19h45 – Visite du jardin « plantes de sorcières » : « Entre sortilèges\, ‘voyages’ et hallucinations\, l’histoire de ces plantes magiques ou maléfiques remonte à la nuit des temps. Elles ont hanté les grimoires et tous les livres de médecine au cours des siècles. »\n\n\n\n\n \n\n\n\n\n🎟️ Réservation nécessaire\n\n\n👥 Places limitées à 20 participants\n\n\n🪙 10€/adultes\, 5€/enfants\n\n\n\n\nRéservez\n\n\n\n  \nPrenez également le temps de vous restaurer à  La Table d’Alix  en réservant votre table via l’outil de réservation Barestho ! \n  \n Réservez votre table  \n\n\n\n#MédecineMédiévale #Herboristerie #Sorcellerie #JardinMédicinal #ÉvénementUnique #CultureEtHistoire
URL:https://www.notredamealarose.be/event/%e2%9c%a8-%f0%9d%97%a1%f0%9d%97%bc%f0%9d%97%b0%f0%9d%98%81%f0%9d%98%82%f0%9d%97%bf%f0%9d%97%bb%f0%9d%97%b2-%f0%9d%98%80%f0%9d%97%bd%f0%9d%97%b2%f0%9d%97%b0%f0%9d%97%b6%f0%9d%97%ae%f0%9d%97%b9/
LOCATION:Arsenal des Pompiers de Lessines\, Rue des Quatre frères Aymon\, Lessines\, Hainaut\, 7860
ATTACH;FMTTYPE=image/jpeg:https://www.notredamealarose.be/2022/wp-content/uploads/2024/06/347250920_276004418108604_7493023723006123079_n-e1718282269497.jpg
ORGANIZER;CN="H%C3%B4pital Notre-Dame %C3%A0 la Rose":MAILTO:info@notredamelarose.be
END:VEVENT
BEGIN:VEVENT
DTSTART;VALUE=DATE:20240706
DTEND;VALUE=DATE:20240708
DTSTAMP:20260422T123955
CREATED:20240621T104428Z
LAST-MODIFIED:20240621T104428Z
UID:12091-1720224000-1720396799@www.notredamealarose.be
SUMMARY:Hospital Pursuit
DESCRIPTION:Chaque premier week-end du mois\, les samedi 1 et dimanche 2 juin\n\n\n\n\n\n\nVenez faire chauffer vos neurones à l’Hôpital Notre-Dame à la Rose tous les premiers week-ends de chaque mois avec notre jeu « Hospital Pursuit » ! Ce jeu\, inspiré du célèbre jeu de plateau\, se déroule grandeur nature ! C’est une façon ludique\, conviviale\, enrichissante et didactique de découvrir l’Hôpital Notre-Dame à la Rose. \nHospital Pursuit\, jeu d’énigmes et de questions-réponses\, peut se jouer en famille\, en couple\, en équipe ou en solo. Il sollicite le sens de l’observation\, de la déduction et la culture générale. \nSerez-vous capables de rassembler les 10 jetons \nde 7 couleurs différentes en 1h maximum ? \n\n\n\n\n\n\nAccessible dès 8 ans \n\n\n\n\n\nRéservez
URL:https://www.notredamealarose.be/event/hospital-pursuit-4/
LOCATION:Arsenal des Pompiers de Lessines\, Rue des Quatre frères Aymon\, Lessines\, Hainaut\, 7860
ATTACH;FMTTYPE=image/jpeg:https://www.notredamealarose.be/2022/wp-content/uploads/2024/05/6492fd8a-15f9-1b0b-3f48-c1feacdab95f.jpeg
ORGANIZER;CN="H%C3%B4pital Notre-Dame %C3%A0 la Rose":MAILTO:info@notredamelarose.be
END:VEVENT
BEGIN:VEVENT
DTSTART;TZID=Europe/Paris:20240706T143000
DTEND;TZID=Europe/Paris:20240706T173000
DTSTAMP:20260422T123955
CREATED:20240621T104256Z
LAST-MODIFIED:20240621T104256Z
UID:12089-1720276200-1720287000@www.notredamealarose.be
SUMMARY:Visite-conférence "plantes de sorcières"
DESCRIPTION:Vu le succès rencontré par la nocturne de Marc (c’est complet !  ) \, il vous propose de participer à une deuxième édition de cette visite-conférence consacrée aux plantes de sorcières et leur histoire. \n\n\n\n Quand ? Le samedi 6 juillet à 14h30 !\n Prix : 10€/personne\n Réservation https://tinyurl.com/25kzv8hl\n Nombre de places maximum : 20 personnes\n\n\n\nNe manquez pas cette deuxième occasion pour y participer !\nAu fait\, avez vous deviné le nom de la plante qu’il tient en main\, la même qui se trouve sur l’image juste à côté ?\n\nBienvenue à toutes et tous
URL:https://www.notredamealarose.be/event/visite-conference-plantes-de-sorcieres/
LOCATION:Arsenal des Pompiers de Lessines\, Rue des Quatre frères Aymon\, Lessines\, Hainaut\, 7860
ORGANIZER;CN="H%C3%B4pital Notre-Dame %C3%A0 la Rose":MAILTO:info@notredamelarose.be
END:VEVENT
BEGIN:VEVENT
DTSTART;TZID=Europe/Paris:20240710T143000
DTEND;TZID=Europe/Paris:20240710T170000
DTSTAMP:20260422T123955
CREATED:20240515T142053Z
LAST-MODIFIED:20240515T142053Z
UID:11795-1720621800-1720630800@www.notredamealarose.be
SUMMARY:Mercredis en famille : Atelier création de peinture naturelle ! 🖌️
DESCRIPTION:🎨 Dans notre atelier de création de peintures végétales\, nous vous invitons à utiliser des épluchures et des légumes frais\, vous serez émerveillés par la diversité et la richesse des teintes que la nature a à offrir. \nLibérez votre créativité tout en préservant votre santé et la planète. \n Une boisson est offerte par enfant à ‘La Table d’Alix’.  \nAccessible à partir de 5 ans. \n  \nRéservation
URL:https://www.notredamealarose.be/event/mercredis-en-famille-atelier-creation-de-peinture-naturelle-%f0%9f%96%8c%ef%b8%8f/
LOCATION:Arsenal des Pompiers de Lessines\, Rue des Quatre frères Aymon\, Lessines\, Hainaut\, 7860
ATTACH;FMTTYPE=image/jpeg:https://www.notredamealarose.be/2022/wp-content/uploads/2024/05/HNDR_MERCREDI_LOGO.jpg
ORGANIZER;CN="H%C3%B4pital Notre-Dame %C3%A0 la Rose":MAILTO:info@notredamelarose.be
END:VEVENT
BEGIN:VEVENT
DTSTART;TZID=Europe/Paris:20240712T100000
DTEND;TZID=Europe/Paris:20240712T120000
DTSTAMP:20260422T123955
CREATED:20240515T131603Z
LAST-MODIFIED:20240515T131843Z
UID:11774-1720778400-1720785600@www.notredamealarose.be
SUMMARY:Atelier "Tataki Zomé" 🌿
DESCRIPTION:Découvrez l’art du Tataki Zomé\, une technique japonaise ancestrale de martelage de plantes. Cette pratique créative et relaxante vous permettra de composer des tableaux poétiques aux nuances subtiles à partir de végétaux tout droit venus de notre jardin de simples. \n🪙 Prix : 10€/ adulte\, 5€/enfant\n⏱️ Durée : -+ 1h30 \n👥 Nombre de participants max : 20 personnes \nÀ partir de 6 ans. Les enfants doivent être accompagnés d’un adulte. \n\n\nRéservez
URL:https://www.notredamealarose.be/event/atelier-tataki-zome-%f0%9f%8c%bf/
LOCATION:Arsenal des Pompiers de Lessines\, Rue des Quatre frères Aymon\, Lessines\, Hainaut\, 7860
ATTACH;FMTTYPE=image/jpeg:https://www.notredamealarose.be/2022/wp-content/uploads/2024/05/d807cc18-5f33-710a-46bc-114580992a94.jpeg
ORGANIZER;CN="H%C3%B4pital Notre-Dame %C3%A0 la Rose":MAILTO:info@notredamelarose.be
END:VEVENT
BEGIN:VEVENT
DTSTART;VALUE=DATE:20240720
DTEND;VALUE=DATE:20240722
DTSTAMP:20260422T123955
CREATED:20240515T133528Z
LAST-MODIFIED:20240515T133528Z
UID:11787-1721433600-1721606399@www.notredamealarose.be
SUMMARY:𝙇𝙚 𝙧𝙚𝙡𝙞𝙦𝙪𝙖𝙞𝙧𝙚 𝙙𝙚 𝙡𝙖 𝙎𝙖𝙞𝙣𝙩𝙚 𝙀𝙥𝙞𝙣𝙚 𝙖 𝙙𝙞𝙨𝙥𝙖𝙧𝙪 ! 🕵🏻
DESCRIPTION:« 𝙇𝙚 𝙧𝙚𝙡𝙞𝙦𝙪𝙖𝙞𝙧𝙚 𝙙𝙚 𝙡𝙖 𝙎𝙖𝙞𝙣𝙩𝙚 𝙀𝙥𝙞𝙣𝙚 𝙖 𝙙𝙞𝙨𝙥𝙖𝙧𝙪 ! 🕵🏻« \n\n\n\n\n\n Une enquête palpitante\, une chasse au trésor originale pour tout public … Au sein même de l’Hôpital Notre-Dame à la Rose de Lessines\, chaque troisième week-end de chaque mois.\n\n\n\n« Nous sommes le 4 mai 1654.\n\n\n\nLa communauté des Sœurs augustines de l’hôtel-Dieu de Lessines vient de constater le vol d’un prestigieux reliquaire ! Une pièce d’orfèvrerie unique contenant l’Épine Sacrée !\n\n\n\nLe maître-directeur\, l’abbé de Saulchoir\, a été appelé sur les lieux et compte sur votre aide pour démêler les fils de cette bien étrange affaire.\n\n\nVenez-vous replonger au 17e siècle au sein du magnifique Hôpital Notre-Dame à la Rose ! Menez l’enquête à travers les salles du musée\, forgez-vous votre propre opinion sur les auteurs et les raisons de ce vol odieux !\n\n\n\nAvec votre livret d’enquête\, vous découvrirez l’Hôpital d’un autre œil\, de façon décalée…\n\n\n\nAttention ! Des indices se cachent partout : sur les tiroirs de la pharmacie\, dans le coin d’un retable\, derrière une porte de lambris\, ou même dans un banc-coffre du 17e siècle… »\n\n\nRéservez
URL:https://www.notredamealarose.be/event/%f0%9d%99%87%f0%9d%99%9a-%f0%9d%99%a7%f0%9d%99%9a%f0%9d%99%a1%f0%9d%99%9e%f0%9d%99%a6%f0%9d%99%aa%f0%9d%99%96%f0%9d%99%9e%f0%9d%99%a7%f0%9d%99%9a-%f0%9d%99%99%f0%9d%99%9a-%f0%9d%99%a1%f0%9d%99%96/
LOCATION:Arsenal des Pompiers de Lessines\, Rue des Quatre frères Aymon\, Lessines\, Hainaut\, 7860
ATTACH;FMTTYPE=image/jpeg:https://www.notredamealarose.be/2022/wp-content/uploads/2023/12/Facebook-Cover-FR-.jpg
ORGANIZER;CN="H%C3%B4pital Notre-Dame %C3%A0 la Rose":MAILTO:info@notredamelarose.be
END:VEVENT
BEGIN:VEVENT
DTSTART;TZID=Europe/Paris:20240721T110000
DTEND;TZID=Europe/Paris:20240721T123000
DTSTAMP:20260422T123955
CREATED:20240515T133733Z
LAST-MODIFIED:20240701T073400Z
UID:11790-1721559600-1721565000@www.notredamealarose.be
SUMMARY:Visite “Jardin coquin” 🔥😶‍🌫️
DESCRIPTION:Le dimanche 21 juillet 2024 à 14h30 \nDepuis la nuit des temps\, les humains cherchent les moyens pour renforcer leur désir\, leurs sensations érotiques et la puissance sexuelle. C’est d’abord dans la nature qu’ils ont puisé les aphrodisiaques jusqu’à l’arrivée de la fameuse pilule bleue. 🔵 \nPouvait-on trouver des plantes aphrodisiaques dans les jardins de simples d’un Hôtel-Dieu ? Au moment de la floraison\, le jardin de simples sera-t-il monochrome ? Blanc ? Ou encore rose ? Le vert est-il vraiment toujours une couleur apaisante dans la pharmacopée ? 🟢 \nAu cours d’une visite du jardin de simples de l’Hôpital Notre-Dame à la Rose\, nous essaierons de répondre à ces quelques questions ainsi qu’à beaucoup d’autres. 😶‍🌫️ \n🪙 10€ / personne \nRéservez
URL:https://www.notredamealarose.be/event/visite-jardin-coquin-%f0%9f%94%a5%f0%9f%98%b6%f0%9f%8c%ab%ef%b8%8f/
LOCATION:Arsenal des Pompiers de Lessines\, Rue des Quatre frères Aymon\, Lessines\, Hainaut\, 7860
CATEGORIES:Actualités
ATTACH;FMTTYPE=image/jpeg:https://www.notredamealarose.be/2022/wp-content/uploads/2022/12/29062016-1M9A6457-basse-def.jpg
ORGANIZER;CN="H%C3%B4pital Notre-Dame %C3%A0 la Rose":MAILTO:info@notredamelarose.be
END:VEVENT
END:VCALENDAR