BEGIN:VCALENDAR
VERSION:2.0
PRODID:-//Hôpital Notre-Dame à la Rose - Lessines - ECPv6.15.20//NONSGML v1.0//EN
CALSCALE:GREGORIAN
METHOD:PUBLISH
X-ORIGINAL-URL:https://www.notredamealarose.be
X-WR-CALDESC:Évènements pour Hôpital Notre-Dame à la Rose - Lessines
REFRESH-INTERVAL;VALUE=DURATION:PT1H
X-Robots-Tag:noindex
X-PUBLISHED-TTL:PT1H
BEGIN:VTIMEZONE
TZID:Europe/Paris
BEGIN:DAYLIGHT
TZOFFSETFROM:+0100
TZOFFSETTO:+0200
TZNAME:CEST
DTSTART:20230326T010000
END:DAYLIGHT
BEGIN:STANDARD
TZOFFSETFROM:+0200
TZOFFSETTO:+0100
TZNAME:CET
DTSTART:20231029T010000
END:STANDARD
BEGIN:DAYLIGHT
TZOFFSETFROM:+0100
TZOFFSETTO:+0200
TZNAME:CEST
DTSTART:20240331T010000
END:DAYLIGHT
BEGIN:STANDARD
TZOFFSETFROM:+0200
TZOFFSETTO:+0100
TZNAME:CET
DTSTART:20241027T010000
END:STANDARD
BEGIN:DAYLIGHT
TZOFFSETFROM:+0100
TZOFFSETTO:+0200
TZNAME:CEST
DTSTART:20250330T010000
END:DAYLIGHT
BEGIN:STANDARD
TZOFFSETFROM:+0200
TZOFFSETTO:+0100
TZNAME:CET
DTSTART:20251026T010000
END:STANDARD
END:VTIMEZONE
BEGIN:VEVENT
DTSTART;VALUE=DATE:20240803
DTEND;VALUE=DATE:20240805
DTSTAMP:20260422T105531
CREATED:20240522T092332Z
LAST-MODIFIED:20240522T092332Z
UID:11848-1722643200-1722815999@www.notredamealarose.be
SUMMARY:Hospital Pursuit
DESCRIPTION:Chaque premier week-end du mois\, les samedi 3 et dimanche 4 août\n \n\n\n\n\n\nVenez faire chauffer vos neurones à l’Hôpital Notre-Dame à la Rose tous les premiers week-ends de chaque mois avec notre jeu « Hospital Pursuit » ! Ce jeu\, inspiré du célèbre jeu de plateau\, se déroule grandeur nature ! C’est une façon ludique\, conviviale\, enrichissante et didactique de découvrir l’Hôpital Notre-Dame à la Rose. \nHospital Pursuit\, jeu d’énigmes et de questions-réponses\, peut se jouer en famille\, en couple\, en équipe ou en solo. Il sollicite le sens de l’observation\, de la déduction et la culture générale. \nSerez-vous capables de rassembler les 10 jetons \nde 7 couleurs différentes en 1h maximum ? \n\n\n\n\n\n\nAccessible dès 8 ans \n\n\n\n\n\nRéservez
URL:https://www.notredamealarose.be/event/hospital-pursuit-2/
LOCATION:Arsenal des Pompiers de Lessines\, Rue des Quatre frères Aymon\, Lessines\, Hainaut\, 7860
ATTACH;FMTTYPE=image/jpeg:https://www.notredamealarose.be/2022/wp-content/uploads/2024/05/Hospital-Pursuit.jpg
ORGANIZER;CN="H%C3%B4pital Notre-Dame %C3%A0 la Rose":MAILTO:info@notredamelarose.be
END:VEVENT
BEGIN:VEVENT
DTSTART;TZID=Europe/Paris:20240814T143000
DTEND;TZID=Europe/Paris:20240814T170000
DTSTAMP:20260422T105531
CREATED:20240522T093241Z
LAST-MODIFIED:20240813T112822Z
UID:11855-1723645800-1723654800@www.notredamealarose.be
SUMMARY:Mercredis en famille : visite théâtralisée 🎭
DESCRIPTION:Le mercredi 14 août à 14h30\n\n\n\nParticipez à une visite immersive et interactive dont vous serez les acteurs\, guidés par sœur Marie-Cécile ou un médecin. Découvrez pas à pas la vie quotidienne à l’Hôpital. Vous aurez l’opportunité de préparer une pommade en suivant une recette ancestrale ou de mettre en place l’équipement nécessaire pour une saignée…\n\n\n\n 10€ / Adulte\, 5€ / Enfant\, Gratuit pour les -6 ans !\n\n\n Boisson offerte par enfant !\n\n\nRéservez
URL:https://www.notredamealarose.be/event/mercredis-en-famille-visite-theatralisee-%f0%9f%8e%ad-2/
LOCATION:Arsenal des Pompiers de Lessines\, Rue des Quatre frères Aymon\, Lessines\, Hainaut\, 7860
ATTACH;FMTTYPE=image/jpeg:https://www.notredamealarose.be/2022/wp-content/uploads/2024/05/HNDR_MERCREDI_LOGO.jpg
ORGANIZER;CN="H%C3%B4pital Notre-Dame %C3%A0 la Rose":MAILTO:info@notredamelarose.be
END:VEVENT
BEGIN:VEVENT
DTSTART;VALUE=DATE:20240817
DTEND;VALUE=DATE:20240819
DTSTAMP:20260422T105531
CREATED:20240522T114315Z
LAST-MODIFIED:20240808T090814Z
UID:11857-1723852800-1724025599@www.notredamealarose.be
SUMMARY:Le reliquaire de la Sainte Épine a disparu ! 🕵🏻
DESCRIPTION:« 𝙇𝙚 𝙧𝙚𝙡𝙞𝙦𝙪𝙖𝙞𝙧𝙚 𝙙𝙚 𝙡𝙖 𝙎𝙖𝙞𝙣𝙩𝙚 𝙀𝙥𝙞𝙣𝙚 𝙖 𝙙𝙞𝙨𝙥𝙖𝙧𝙪 ! «\n\n\n\n\n\n Une enquête palpitante\, une chasse au trésor originale pour tout public … Au sein même de l’Hôpital Notre-Dame à la Rose de Lessines\, chaque troisième week-end de chaque mois.\n\n\n« Nous sommes le 4 mai 1654.\n\n\n\nLa communauté des Sœurs augustines de l’hôtel-Dieu de Lessines vient de constater le vol d’un prestigieux reliquaire ! Une pièce d’orfèvrerie unique contenant l’Épine Sacrée !\n\n\n\nLe maître-directeur\, l’abbé de Saulchoir\, a été appelé sur les lieux et compte sur votre aide pour démêler les fils de cette bien étrange affaire.\n\n\nVenez-vous replonger au 17e siècle au sein du magnifique Hôpital Notre-Dame à la Rose ! Menez l’enquête à travers les salles du musée\, forgez-vous votre propre opinion sur les auteurs et les raisons de ce vol odieux !\n\n\n\nAvec votre livret d’enquête\, vous découvrirez l’Hôpital d’un autre œil\, de façon décalée…\n\n\n\nAttention ! Des indices se cachent partout : sur les tiroirs de la pharmacie\, dans le coin d’un retable\, derrière une porte de lambris\, ou même dans un banc-coffre du 17e siècle… »\n\n\n\nRéservez
URL:https://www.notredamealarose.be/event/le-reliquaire-de-la-sainte-epine-a-disparu-%f0%9f%95%b5%f0%9f%8f%bb-3/
LOCATION:Arsenal des Pompiers de Lessines\, Rue des Quatre frères Aymon\, Lessines\, Hainaut\, 7860
ATTACH;FMTTYPE=image/jpeg:https://www.notredamealarose.be/2022/wp-content/uploads/2023/12/Facebook-Cover-FR-.jpg
ORGANIZER;CN="H%C3%B4pital Notre-Dame %C3%A0 la Rose":MAILTO:info@notredamelarose.be
END:VEVENT
BEGIN:VEVENT
DTSTART;TZID=Europe/Paris:20240817T100000
DTEND;TZID=Europe/Paris:20240817T120000
DTSTAMP:20260422T105531
CREATED:20240522T114628Z
LAST-MODIFIED:20240812T075703Z
UID:11859-1723888800-1723896000@www.notredamealarose.be
SUMMARY:Odyssée chromatique à travers le jardin 💐
DESCRIPTION:Samedi 17 août 2024 à 10h \nDans ce jardin de simples\, chaque couleur et chaque plante racontent une histoire fascinante d’usages médicinaux\, illustrant le lien profond entre l’homme et la nature. \nLes lavandes violettes\, embaumant l’air d’un parfum envoûtant\, sont prisées pour leurs vertus relaxantes\, aidant à apaiser le stress et à favoriser un sommeil réparateur. \nD’un vert intense les feuilles de menthe et de basilic offrent des arômes rafraîchissants et énergisants\, idéaux pour soulager les maux digestifs et revitaliser l’esprit. \nJaune-orangé\, les calendulas ont des propriétés anti-inflammatoires et cicatrisantes\, idéales pour soulager les irritations cutanées et les petites blessures. \nPour clore cette visite\, qui fait la part belle aux couleurs\, rien de tel qu’une dégustation de tisane colorée. \n🪙 Prix : 10€ \n👥 Nombre de participants max : 20 personnes \n⏱️ Durée : 1h30 \nRéservez
URL:https://www.notredamealarose.be/event/odyssee-chromatique-a-travers-le-jardin-%f0%9f%92%90-4/
LOCATION:Arsenal des Pompiers de Lessines\, Rue des Quatre frères Aymon\, Lessines\, Hainaut\, 7860
ATTACH;FMTTYPE=image/jpeg:https://www.notredamealarose.be/2022/wp-content/uploads/2024/05/DSC_1060.jpg
ORGANIZER;CN="H%C3%B4pital Notre-Dame %C3%A0 la Rose":MAILTO:info@notredamelarose.be
END:VEVENT
BEGIN:VEVENT
DTSTART;VALUE=DATE:20240821
DTEND;VALUE=DATE:20240822
DTSTAMP:20260422T105531
CREATED:20240809T132148Z
LAST-MODIFIED:20240809T132148Z
UID:12168-1724198400-1724284799@www.notredamealarose.be
SUMMARY:🎨 𝗕𝗲𝗵𝗶𝗻𝗱 𝘁𝗵𝗲 𝗦𝗰𝗲𝗻𝗲𝘀 - 𝗥𝗲𝘀𝘁𝗮𝘂𝗿𝗮𝘁𝗲𝘂𝗿 𝗱𝗲 𝗺𝗲𝘂𝗯𝗹𝗲𝘀 𝗮𝗻𝗰𝗶𝗲𝗻𝘀 🎨
DESCRIPTION:Envie de découvrir les secrets de la restauration de meubles anciens ? Rejoignez-nous à l’Hôpital Notre-Dame à la Rose pour une expérience unique !\n\n\n \n\n\n🛠️ Quand ? Le mercredi 21 août \n\n\n📍 Où ? Hôpital Notre-Dame à la Rose\n\n\n \n\n\nVenez observer Terry\, notre expert en restauration de meubles\, redonner vie à un siège d’époque grâce à des techniques traditionnelles : restauration du bois\, garnissage et pose de toiles.\n\n\n \n\n\nEt ce n’est pas tout… Vous aurez également l’opportunité de mettre la main à la pâte\, en toute sécurité ! 👐👷🏻\n\n\n \n\n\n🌟 Ne manquez pas cette occasion exceptionnelle de plonger dans l’art de la restauration ! 🌟
URL:https://www.notredamealarose.be/event/%f0%9f%8e%a8-%f0%9d%97%95%f0%9d%97%b2%f0%9d%97%b5%f0%9d%97%b6%f0%9d%97%bb%f0%9d%97%b1-%f0%9d%98%81%f0%9d%97%b5%f0%9d%97%b2-%f0%9d%97%a6%f0%9d%97%b0%f0%9d%97%b2%f0%9d%97%bb%f0%9d%97%b2%f0%9d%98%80/
LOCATION:Arsenal des Pompiers de Lessines\, Rue des Quatre frères Aymon\, Lessines\, Hainaut\, 7860
ATTACH;FMTTYPE=image/jpeg:https://www.notredamealarose.be/2022/wp-content/uploads/2024/08/TTJ3VA64QFA5RAPCHYOSNOKVSQ.jpg
ORGANIZER;CN="H%C3%B4pital Notre-Dame %C3%A0 la Rose":MAILTO:info@notredamelarose.be
END:VEVENT
BEGIN:VEVENT
DTSTART;TZID=Europe/Paris:20240821T093000
DTEND;TZID=Europe/Paris:20240821T170000
DTSTAMP:20260422T105531
CREATED:20240522T115004Z
LAST-MODIFIED:20240522T115055Z
UID:11861-1724232600-1724259600@www.notredamealarose.be
SUMMARY:Atelier “Plantes tinctoriales médicinales” 🌿
DESCRIPTION:Le dimanche 16 juin 2024 à 9h30 (toute la journée) \n\nDu rouge garance au bleu pastel\, des plantes sauvages en passant par nos fruits et légumes\, venez vous initier aux teintures naturelles sur fibres animales et végétales. Étonnez-vous lors d’une expérience inoubliable ! \n🪙 Prix : 35€/pers avec possibilité de réserver un lunch à La Table d’Alix au prix de 15€ (deux choix possibles). Réservation du lunch via \nBarestho en mettant comme note « Atelier » \nLe menu d’août sera mis à jour à partir du mois de juillet. \n\n\n👥 Nombre de participants max : 15 pers \nRéservez
URL:https://www.notredamealarose.be/event/atelier-plantes-tinctoriales-medicinales-%f0%9f%8c%bf-2/
LOCATION:Arsenal des Pompiers de Lessines\, Rue des Quatre frères Aymon\, Lessines\, Hainaut\, 7860
ATTACH;FMTTYPE=image/webp:https://www.notredamealarose.be/2022/wp-content/uploads/2024/05/DALL·E-2024-05-22-13.49.34-A-vibrant-garden-scene-featuring-a-variety-of-dye-plants-plantes-tinctoriales-such-as-indigo-madder-woad-safflower-and-dyers-chamomile.-The-pla.webp
ORGANIZER;CN="H%C3%B4pital Notre-Dame %C3%A0 la Rose":MAILTO:info@notredamelarose.be
END:VEVENT
BEGIN:VEVENT
DTSTART;TZID=Europe/Paris:20240824T110000
DTEND;TZID=Europe/Paris:20240824T123000
DTSTAMP:20260422T105531
CREATED:20240522T115400Z
LAST-MODIFIED:20240617T142052Z
UID:11867-1724497200-1724502600@www.notredamealarose.be
SUMMARY:Visite “Jardin coquin” 🔥😶‍🌫️
DESCRIPTION:Le samedi 24 août 2024 à 14h30 \nDepuis la nuit des temps\, les humains cherchent les moyens pour renforcer leur désir\, leurs sensations érotiques et la puissance sexuelle. C’est d’abord dans la nature qu’ils ont puisé les aphrodisiaques jusqu’à l’arrivée de la fameuse pilule bleue. 🔵 \nPouvait-on trouver des plantes aphrodisiaques dans les jardins de simples d’un Hôtel-Dieu ? Au moment de la floraison\, le jardin de simples sera-t-il monochrome ? Blanc ? Ou encore rose ? Le vert est-il vraiment toujours une couleur apaisante dans la pharmacopée ? 🟢 \nAu cours d’une visite du jardin de simples de l’Hôpital Notre-Dame à la Rose\, nous essaierons de répondre à ces quelques questions ainsi qu’à beaucoup d’autres. 😶‍🌫️ \n🪙 10€ / personnes \nRéservez votre visite \n  \nAprès votre passage dans le jardin de simples\, dégustez un plat à La Table d’Alix \nÀ la fin de votre visite\, La Table d’Alix vous propose de vous restaurer grâce à un menu spécialement créé pour l’occasion : \nEntrée : Crème d’artichaut à la menthe et petits pois\nPlat : Cochon de lait braisé à la sauge\, mousseline de céleri\, carottes rôties\nDessert : Pavlova aux fraises ou glace à la rose. \nAttention\, lors de la réservation de votre table\, veuillez ajouter comme commentaire « Jardin Coquin » \n🪙 Tarif : 30€ / personnes\n \nRéservez votre table
URL:https://www.notredamealarose.be/event/visite-jardin-coquin-%f0%9f%94%a5%f0%9f%98%b6%f0%9f%8c%ab%ef%b8%8f-2/
LOCATION:Arsenal des Pompiers de Lessines\, Rue des Quatre frères Aymon\, Lessines\, Hainaut\, 7860
ATTACH;FMTTYPE=image/webp:https://www.notredamealarose.be/2022/wp-content/uploads/2024/05/DALL·E-2024-05-22-13.53.37-A-vibrant-garden-scene-featuring-various-aphrodisiac-plants-such-as-ginseng-maca-damiana-yohimbe-and-ashwagandha.-The-plants-are-lush-and-healthy.webp
ORGANIZER;CN="H%C3%B4pital Notre-Dame %C3%A0 la Rose":MAILTO:info@notredamelarose.be
END:VEVENT
BEGIN:VEVENT
DTSTART;TZID=Europe/Paris:20240825T140000
DTEND;TZID=Europe/Paris:20240825T170000
DTSTAMP:20260422T105531
CREATED:20240820T095050Z
LAST-MODIFIED:20240820T095209Z
UID:12231-1724594400-1724605200@www.notredamealarose.be
SUMMARY:𝗔𝘁𝗲𝗹𝗶𝗲𝗿 𝗖𝘆𝗮𝗻𝗼𝘁𝘆𝗽𝗲 🧑🏻‍🔬
DESCRIPTION:Le cyanotype est un procédé photographique qui crée un tirage cyano-bleu après développement.\n\n\n\nAu cours de cet atelier\, vous serez initié à ce procédé photographique simple. Ce dont nous avons besoin\, ce sont deux produits chimiques sûrs et la lumière du soleil ou un soleil artificiel\, à savoir une lampe UV. \n\n\n\n Dimanche 25 août à 14h\n 20€/personne\n Max. 12 personnes \nRéservez
URL:https://www.notredamealarose.be/event/%f0%9d%97%94%f0%9d%98%81%f0%9d%97%b2%f0%9d%97%b9%f0%9d%97%b6%f0%9d%97%b2%f0%9d%97%bf-%f0%9d%97%96%f0%9d%98%86%f0%9d%97%ae%f0%9d%97%bb%f0%9d%97%bc%f0%9d%98%81%f0%9d%98%86%f0%9d%97%bd%f0%9d%97%b2/
LOCATION:Arsenal des Pompiers de Lessines\, Rue des Quatre frères Aymon\, Lessines\, Hainaut\, 7860
ATTACH;FMTTYPE=image/jpeg:https://www.notredamealarose.be/2022/wp-content/uploads/2024/08/DALL·E-2024-08-05-13.42.31-A-cyanotype-image-featuring-a-delicate-botanical-design.jpg
ORGANIZER;CN="H%C3%B4pital Notre-Dame %C3%A0 la Rose":MAILTO:info@notredamelarose.be
END:VEVENT
BEGIN:VEVENT
DTSTART;VALUE=DATE:20240831
DTEND;VALUE=DATE:20240902
DTSTAMP:20260422T105531
CREATED:20240807T094629Z
LAST-MODIFIED:20240807T094629Z
UID:12135-1725062400-1725235199@www.notredamealarose.be
SUMMARY:Le Festin
DESCRIPTION:Programme\n\n\nSamedi 31 août 2024\n\n\n12h\n\n\nGrande volée de toutes les cloches de l’église Saint-Pierre en ouverture du 445e Festin. \n\n\n\n\n12h-20h\n\n\nFranche-Foire aux Artistes\, Artisans et Métiers d‘Art. \n\n\n\n\n19h30\n\n\nSpectacle-promenade. \n\n\nDimanche 1er septembre 2024\n\n\n10h-19h\n\n\nFranche-Foire aux Artistes\, Artisans et Métiers d‘Art. \n\n\n\n\n10h\n\n\nGrand-Messe Renaissance – Eglise Saint-Pierre. \n\n\n\n\n15h\n\n\nGrand Cortège et Procession Historiques.\nRemise de l‘épée à la Chapelle Notre-Dame de la Porte d‘Ogy vers 17h30. \n\n\n\n\n18h\n\n\nRéjouissances dans la cour de la ferme.
URL:https://www.notredamealarose.be/event/le-festin/
ATTACH;FMTTYPE=image/jpeg:https://www.notredamealarose.be/2022/wp-content/uploads/2024/08/festin2024_A4-700x982-1.jpg
END:VEVENT
END:VCALENDAR