BEGIN:VCALENDAR
VERSION:2.0
PRODID:-//Hôpital Notre-Dame à la Rose - Lessines - ECPv6.15.20//NONSGML v1.0//EN
CALSCALE:GREGORIAN
METHOD:PUBLISH
X-WR-CALNAME:Hôpital Notre-Dame à la Rose - Lessines
X-ORIGINAL-URL:https://www.notredamealarose.be
X-WR-CALDESC:Évènements pour Hôpital Notre-Dame à la Rose - Lessines
REFRESH-INTERVAL;VALUE=DURATION:PT1H
X-Robots-Tag:noindex
X-PUBLISHED-TTL:PT1H
BEGIN:VTIMEZONE
TZID:Europe/Paris
BEGIN:DAYLIGHT
TZOFFSETFROM:+0100
TZOFFSETTO:+0200
TZNAME:CEST
DTSTART:20230326T010000
END:DAYLIGHT
BEGIN:STANDARD
TZOFFSETFROM:+0200
TZOFFSETTO:+0100
TZNAME:CET
DTSTART:20231029T010000
END:STANDARD
BEGIN:DAYLIGHT
TZOFFSETFROM:+0100
TZOFFSETTO:+0200
TZNAME:CEST
DTSTART:20240331T010000
END:DAYLIGHT
BEGIN:STANDARD
TZOFFSETFROM:+0200
TZOFFSETTO:+0100
TZNAME:CET
DTSTART:20241027T010000
END:STANDARD
BEGIN:DAYLIGHT
TZOFFSETFROM:+0100
TZOFFSETTO:+0200
TZNAME:CEST
DTSTART:20250330T010000
END:DAYLIGHT
BEGIN:STANDARD
TZOFFSETFROM:+0200
TZOFFSETTO:+0100
TZNAME:CET
DTSTART:20251026T010000
END:STANDARD
END:VTIMEZONE
BEGIN:VEVENT
DTSTART;VALUE=DATE:20240831
DTEND;VALUE=DATE:20240902
DTSTAMP:20260422T085748
CREATED:20240807T094629Z
LAST-MODIFIED:20240807T094629Z
UID:12135-1725062400-1725235199@www.notredamealarose.be
SUMMARY:Le Festin
DESCRIPTION:Programme\n\n\nSamedi 31 août 2024\n\n\n12h\n\n\nGrande volée de toutes les cloches de l’église Saint-Pierre en ouverture du 445e Festin. \n\n\n\n\n12h-20h\n\n\nFranche-Foire aux Artistes\, Artisans et Métiers d‘Art. \n\n\n\n\n19h30\n\n\nSpectacle-promenade. \n\n\nDimanche 1er septembre 2024\n\n\n10h-19h\n\n\nFranche-Foire aux Artistes\, Artisans et Métiers d‘Art. \n\n\n\n\n10h\n\n\nGrand-Messe Renaissance – Eglise Saint-Pierre. \n\n\n\n\n15h\n\n\nGrand Cortège et Procession Historiques.\nRemise de l‘épée à la Chapelle Notre-Dame de la Porte d‘Ogy vers 17h30. \n\n\n\n\n18h\n\n\nRéjouissances dans la cour de la ferme.
URL:https://www.notredamealarose.be/event/le-festin/
ATTACH;FMTTYPE=image/jpeg:https://www.notredamealarose.be/2022/wp-content/uploads/2024/08/festin2024_A4-700x982-1.jpg
END:VEVENT
BEGIN:VEVENT
DTSTART;VALUE=DATE:20240907
DTEND;VALUE=DATE:20240909
DTSTAMP:20260422T085748
CREATED:20240807T094941Z
LAST-MODIFIED:20240807T095055Z
UID:12140-1725667200-1725839999@www.notredamealarose.be
SUMMARY:Hospital Pursuit
DESCRIPTION:Chaque premier week-end du mois\, les samedi 7 et dimanche 8 septembre\n\n\n\n\n\n\nVenez faire chauffer vos neurones à l’Hôpital Notre-Dame à la Rose tous les premiers week-ends de chaque mois avec notre jeu « Hospital Pursuit » ! Ce jeu\, inspiré du célèbre jeu de plateau\, se déroule grandeur nature ! C’est une façon ludique\, conviviale\, enrichissante et didactique de découvrir l’Hôpital Notre-Dame à la Rose. \nHospital Pursuit\, jeu d’énigmes et de questions-réponses\, peut se jouer en famille\, en couple\, en équipe ou en solo. Il sollicite le sens de l’observation\, de la déduction et la culture générale. \nSerez-vous capables de rassembler les 10 jetons \nde 7 couleurs différentes en 1h maximum ? \n\n\n\n\n\n\nAccessible dès 8 ans \n\n\n\n\n\nRéservez
URL:https://www.notredamealarose.be/event/12140/
LOCATION:Arsenal des Pompiers de Lessines\, Rue des Quatre frères Aymon\, Lessines\, Hainaut\, 7860
ATTACH;FMTTYPE=image/jpeg:https://www.notredamealarose.be/2022/wp-content/uploads/2024/05/6492fd8a-15f9-1b0b-3f48-c1feacdab95f.jpeg
ORGANIZER;CN="H%C3%B4pital Notre-Dame %C3%A0 la Rose":MAILTO:info@notredamelarose.be
END:VEVENT
BEGIN:VEVENT
DTSTART;TZID=Europe/Paris:20240914T100000
DTEND;TZID=Europe/Paris:20240914T120000
DTSTAMP:20260422T085748
CREATED:20240807T095215Z
LAST-MODIFIED:20240808T072252Z
UID:12145-1726308000-1726315200@www.notredamealarose.be
SUMMARY:Odyssée chromatique à travers le jardin 💐
DESCRIPTION:Samedi 14 septembre 2024 à 10h \nDans ce jardin de simples\, chaque couleur et chaque plante racontent une histoire fascinante d’usages médicinaux\, illustrant le lien profond entre l’homme et la nature. \nLes lavandes violettes\, embaumant l’air d’un parfum envoûtant\, sont prisées pour leurs vertus relaxantes\, aidant à apaiser le stress et à favoriser un sommeil réparateur. \nD’un vert intense les feuilles de menthe et de basilic offrent des arômes rafraîchissants et énergisants\, idéaux pour soulager les maux digestifs et revitaliser l’esprit. \nJaune-orangé\, les calendulas ont des propriétés anti-inflammatoires et cicatrisantes\, idéales pour soulager les irritations cutanées et les petites blessures. \nPour clore cette visite\, qui fait la part belle aux couleurs\, rien de tel qu’une dégustation de tisane colorée. \n🪙 Prix : 10€ \n👥 Nombre de participants max : 20 personnes \n⏱️ Durée : 1h30 \nRéservez
URL:https://www.notredamealarose.be/event/odyssee-chromatique-a-travers-le-jardin-%f0%9f%92%90-3/
ATTACH;FMTTYPE=image/jpeg:https://www.notredamealarose.be/2022/wp-content/uploads/2024/05/29062016-_MG_8619.jpg
END:VEVENT
BEGIN:VEVENT
DTSTART;TZID=Europe/Paris:20240915T143000
DTEND;TZID=Europe/Paris:20240915T170000
DTSTAMP:20260422T085748
CREATED:20240828T071227Z
LAST-MODIFIED:20240828T071359Z
UID:12244-1726410600-1726419600@www.notredamealarose.be
SUMMARY:𝗔𝘁𝗲𝗹𝗶𝗲𝗿 - 𝗣𝗮𝗿𝗳𝘂𝗺 𝗱𝗲 𝗰𝗼𝘂𝗹𝗲𝘂𝗿𝘀 👃🏻🌈
DESCRIPTION:Envie d’une expérience inédite ? \n\n \n\nEt si les couleurs pouvaient transformer votre humeur\, éveiller vos souvenirs\, et résonner avec vos émotions ?  Lidwine Surmont\, naturopathe chez AORA Naturo\, vous propose un atelier unique : un voyage olfactif et coloré à travers 14 nuances issues d’un savoir-faire provençal. \n\n \n\nLaissez votre intuition vous guider\, explorez ce que chaque couleur a à offrir\, et découvrez la synergie parfaite pour vous.  Ne manquez pas cette occasion de vivre une expérience sensorielle hors du commun ! \n \nRéserver\n \n\n\n\n\n\n#culture #atelier #musée
URL:https://www.notredamealarose.be/event/%f0%9d%97%94%f0%9d%98%81%f0%9d%97%b2%f0%9d%97%b9%f0%9d%97%b6%f0%9d%97%b2%f0%9d%97%bf-%f0%9d%97%a3%f0%9d%97%ae%f0%9d%97%bf%f0%9d%97%b3%f0%9d%98%82%f0%9d%97%ba-%f0%9d%97%b1%f0%9d%97%b2-%f0%9d%97%b0/
LOCATION:Arsenal des Pompiers de Lessines\, Rue des Quatre frères Aymon\, Lessines\, Hainaut\, 7860
ATTACH;FMTTYPE=image/webp:https://www.notredamealarose.be/2022/wp-content/uploads/2024/08/DALL·E-2024-08-27-16.41.41-A-vibrant-and-inviting-image-designed-for-a-Facebook-post-featuring-an-elegant-blend-of-14-different-colors-in-a-harmonious-gradient.-The-image-shoul-e1724828939694.webp
ORGANIZER;CN="H%C3%B4pital Notre-Dame %C3%A0 la Rose":MAILTO:info@notredamelarose.be
END:VEVENT
BEGIN:VEVENT
DTSTART;TZID=Europe/Paris:20240915T153000
DTEND;TZID=Europe/Paris:20240915T170000
DTSTAMP:20260422T085748
CREATED:20240828T071836Z
LAST-MODIFIED:20240828T071852Z
UID:12250-1726414200-1726419600@www.notredamealarose.be
SUMMARY:Visites théâtralisées 🎭 - Exposition
DESCRIPTION:⏱️ Durée de la visite : 1h30 \nDécouvrez également les visites théâtralisées accompagnées de deux personnages\, l’un issu du prolétariat et l’autre de la bourgeoisie. Partez à la découverte de la Belle Époque lors d’une expérience immersive et hors du commun. \nJean-Pierre Williame et Manon Dath animeront ces visites ! \n🗓️ Quand ? \n🕰️ Départ de la visite à 15h30 \n👉🏻 Le dimanche 15 septembre 2024 (gratuité pour les lessinois avec le code « 7860VT » et sur présentation et lecture de la carte d’identité) \n  \n🪙 Tarifs\n  \n\n\n\n🧑🏻🧓🏻👨🏻‍🎓 Pour les adultes\, séniors et étudiants\, le prix est de 10€ par personne sans consommation\, 13€ par personne avec consommation (café\, soft ou absinthe). \n  \n\n\n\n🔗 Réservation \nPour réserver\, il vous suffit de cliquer sur le bouton suivant et suivre les étapes de réservation 👇🏻 \nRéservation
URL:https://www.notredamealarose.be/event/visites-theatralisees-%f0%9f%8e%ad-exposition/
LOCATION:Arsenal des Pompiers de Lessines\, Rue des Quatre frères Aymon\, Lessines\, Hainaut\, 7860
ATTACH;FMTTYPE=image/jpeg:https://www.notredamealarose.be/2022/wp-content/uploads/2024/05/PXL_20240613_140938146.RAW-01.COVER_.jpg
ORGANIZER;CN="H%C3%B4pital Notre-Dame %C3%A0 la Rose":MAILTO:info@notredamelarose.be
END:VEVENT
BEGIN:VEVENT
DTSTART;VALUE=DATE:20240921
DTEND;VALUE=DATE:20240923
DTSTAMP:20260422T085748
CREATED:20240807T095804Z
LAST-MODIFIED:20240904T103031Z
UID:12148-1726876800-1727049599@www.notredamealarose.be
SUMMARY:Le reliquaire de la Sainte Épine a disparu ! 🕵🏻
DESCRIPTION:Le reliquaire de la Sainte Épine a disparu ! 🕵🏻\n\n\n\n\n\n\n Une enquête palpitante\, une chasse au trésor originale pour tout public … Au sein même de l’Hôpital Notre-Dame à la Rose de Lessines\, chaque troisième week-end de chaque mois.\n\n\n« Nous sommes le 4 mai 1654.\n\n\n\nLa communauté des Sœurs augustines de l’hôtel-Dieu de Lessines vient de constater le vol d’un prestigieux reliquaire ! Une pièce d’orfèvrerie unique contenant l’Épine Sacrée !\n\n\n\nLe maître-directeur\, l’abbé de Saulchoir\, a été appelé sur les lieux et compte sur votre aide pour démêler les fils de cette bien étrange affaire.\n\n\nVenez-vous replonger au 17e siècle au sein du magnifique Hôpital Notre-Dame à la Rose ! Menez l’enquête à travers les salles du musée\, forgez-vous votre propre opinion sur les auteurs et les raisons de ce vol odieux !\n\n\n\nAvec votre livret d’enquête\, vous découvrirez l’Hôpital d’un autre œil\, de façon décalée…\n\n\n\nAttention ! Des indices se cachent partout : sur les tiroirs de la pharmacie\, dans le coin d’un retable\, derrière une porte de lambris\, ou même dans un banc-coffre du 17e siècle… »\n\n\n\nRéservez
URL:https://www.notredamealarose.be/event/le-reliquaire-de-la-sainte-epine-a-disparu-%f0%9f%95%b5%f0%9f%8f%bb-4/
LOCATION:Arsenal des Pompiers de Lessines\, Rue des Quatre frères Aymon\, Lessines\, Hainaut\, 7860
ATTACH;FMTTYPE=image/jpeg:https://www.notredamealarose.be/2022/wp-content/uploads/2023/12/Facebook-Cover-FR-.jpg
ORGANIZER;CN="H%C3%B4pital Notre-Dame %C3%A0 la Rose":MAILTO:info@notredamelarose.be
END:VEVENT
BEGIN:VEVENT
DTSTART;TZID=Europe/Paris:20240922T100000
DTEND;TZID=Europe/Paris:20240922T120000
DTSTAMP:20260422T085748
CREATED:20240807T100038Z
LAST-MODIFIED:20240814T110655Z
UID:12150-1726999200-1727006400@www.notredamealarose.be
SUMMARY:Atelier « Tataki Zomé » 🌿
DESCRIPTION:Découvrez l’art du Tataki Zomé\, une technique japonaise ancestrale de martelage de plantes. Cette pratique créative et relaxante vous permettra de composer des tableaux poétiques aux nuances subtiles à partir de végétaux tout droit venus de notre jardin de simples. \n🪙 Prix : 10€/ adulte\, 5€/enfant\n⏱️ Durée : -+ 1h30 \n👥 Nombre de participants max : 20 personnes \nÀ partir de 6 ans. Les enfants doivent être accompagnés d’un adulte. \n\n\nRéservez
URL:https://www.notredamealarose.be/event/atelier-tataki-zome-%f0%9f%8c%bf-2/
LOCATION:Arsenal des Pompiers de Lessines\, Rue des Quatre frères Aymon\, Lessines\, Hainaut\, 7860
ATTACH;FMTTYPE=image/png:https://www.notredamealarose.be/2022/wp-content/uploads/2024/08/HNDR_FB_8JUILLETµ.png
ORGANIZER;CN="H%C3%B4pital Notre-Dame %C3%A0 la Rose":MAILTO:info@notredamelarose.be
END:VEVENT
BEGIN:VEVENT
DTSTART;TZID=Europe/Paris:20240929T140000
DTEND;TZID=Europe/Paris:20240929T160000
DTSTAMP:20260422T085748
CREATED:20240812T092523Z
LAST-MODIFIED:20240812T092523Z
UID:12177-1727618400-1727625600@www.notredamealarose.be
SUMMARY:𝗔𝘁𝗲𝗹𝗶𝗲𝗿 Lithothérapie 💎✨
DESCRIPTION:Venez découvrir la lithothérapie en compagnie de Céline ! \nQuelle couleur avez vous choisi de porter ce matin ? Plutôt bleu\, rouge\, vert …    Savez-vous que ce choix peut donner quelques indices sur votre état d’esprit ? \nC’est un peu la même chose lorsque vous choisissez des pierres semi-précieuses! Venez découvrir leurs effets guérisseurs au travers d’un cercle chromatique… \nAprès vous être familiarisés avec cette pratique thérapeutique très ancienne\, vous choisirez vos pierres et vos couleurs et confectionnerez votre bracelet personnalisé ! \n🪙 25€ / Personne \nRéservez
URL:https://www.notredamealarose.be/event/%f0%9d%97%94%f0%9d%98%81%f0%9d%97%b2%f0%9d%97%b9%f0%9d%97%b6%f0%9d%97%b2%f0%9d%97%bf-lithotherapie-%f0%9f%92%8e%e2%9c%a8/
LOCATION:Arsenal des Pompiers de Lessines\, Rue des Quatre frères Aymon\, Lessines\, Hainaut\, 7860
ATTACH;FMTTYPE=image/jpeg:https://www.notredamealarose.be/2022/wp-content/uploads/2024/08/image-atelier-litho1.jpg
ORGANIZER;CN="H%C3%B4pital Notre-Dame %C3%A0 la Rose":MAILTO:info@notredamelarose.be
END:VEVENT
END:VCALENDAR