BEGIN:VCALENDAR
VERSION:2.0
PRODID:-//Hôpital Notre-Dame à la Rose - Lessines - ECPv6.15.20//NONSGML v1.0//EN
CALSCALE:GREGORIAN
METHOD:PUBLISH
X-ORIGINAL-URL:https://www.notredamealarose.be
X-WR-CALDESC:Évènements pour Hôpital Notre-Dame à la Rose - Lessines
REFRESH-INTERVAL;VALUE=DURATION:PT1H
X-Robots-Tag:noindex
X-PUBLISHED-TTL:PT1H
BEGIN:VTIMEZONE
TZID:Europe/Paris
BEGIN:DAYLIGHT
TZOFFSETFROM:+0100
TZOFFSETTO:+0200
TZNAME:CEST
DTSTART:20240331T010000
END:DAYLIGHT
BEGIN:STANDARD
TZOFFSETFROM:+0200
TZOFFSETTO:+0100
TZNAME:CET
DTSTART:20241027T010000
END:STANDARD
BEGIN:DAYLIGHT
TZOFFSETFROM:+0100
TZOFFSETTO:+0200
TZNAME:CEST
DTSTART:20250330T010000
END:DAYLIGHT
BEGIN:STANDARD
TZOFFSETFROM:+0200
TZOFFSETTO:+0100
TZNAME:CET
DTSTART:20251026T010000
END:STANDARD
BEGIN:DAYLIGHT
TZOFFSETFROM:+0100
TZOFFSETTO:+0200
TZNAME:CEST
DTSTART:20260329T010000
END:DAYLIGHT
BEGIN:STANDARD
TZOFFSETFROM:+0200
TZOFFSETTO:+0100
TZNAME:CET
DTSTART:20261025T010000
END:STANDARD
END:VTIMEZONE
BEGIN:VEVENT
DTSTART;TZID=Europe/Paris:20250517T180000
DTEND;TZID=Europe/Paris:20250517T220000
DTSTAMP:20260421T181244
CREATED:20250514T095117Z
LAST-MODIFIED:20260226T131633Z
UID:13232-1747504800-1747519200@www.notredamealarose.be
SUMMARY:Nuit européenne des musées 2025
DESCRIPTION:NUIT EUROPÉENNE DES MUSÉES \nSamedi 17 mai : nocturne gratuite de 18h à 22h \n  \nÀ l’occasion de la Nuit européenne des musées\, nous vous concoctons un programme d’activités immersives\, sensibles et créatives. Grâce à différents dispositifs participatifs et ludiques\, participez avec nous à la construction du musée de demain ! \n  \nLa rose des émotions \nQuelles émotions vous procurent les salles de notre musée ? De la joie\, de la sérénité ou plutôt des frissons dans le dos\, voire un vrai malaise ? Devenez acteur de votre parcours et partagez-nous votre ressenti en venant déposer votre rose en origami dans les différentes salles du musée ! \n  \nMon musée idéal \nEt si tout était possible ? Et si le musée de vos rêves devenait réalité ? Au moyen de mots\, de stickers ou encore de dessins\, partagez vos idées de mise en valeur pour les différents espaces du musée. Et si vous deviez donner un nom à ces espaces\, quel serait-il ? Pour éveiller votre imagination\, n’hésitez pas à passer par le bar pour ne pas vous déshydrater ! \n  \nTechno ou retro ? \nQuelle scénographie pour le musée de demain ? Plutôt techno ou rétro ? Faites-nous part de votre préférence et votez\, au moyen des petites fèves reçues à l’accueil\, pour votre scénographie préférée ! \n  \nVisite avec Gérald Decoster \nDépart de l’accueil à 18h. Durée 2h. Visite en Français. \nInscription : https://tinyurl.com/2y3twh76 \nHistorien de l’art et bénévole de la première heure\, Gérald Decoster vous propose une visite unique du site. Une visite émouvante et inspirante à ne pas manquer ! Un clin d’œil à la thématique de la Journée internationale des musées proposée le lendemain ! \n  \nINFORMATIONS PRATIQUES \nNocturne gratuite de 18h à 22h (dernière entrée à 21h). \nInscriptions : https://tinyurl.com/2cju6h56\nLe musée est ouvert en journée aux horaires et tarifs habituels. \nAccès PMR & chiens d’assistance. Gare SNCB à 400m. Parkings à proximité.
URL:https://www.notredamealarose.be/event/nuit-europeenne-des-musees-2025/
LOCATION:Arsenal des Pompiers de Lessines\, Rue des Quatre frères Aymon\, Lessines\, Hainaut\, 7860
ATTACH;FMTTYPE=application/pdf:https://www.notredamealarose.be/2022/wp-content/uploads/2025/05/Nuit-europeenne-des-musees-17mai2025-Hopital-Notre-Dame-a-la-Rose-print.pdf
ORGANIZER;CN="H%C3%B4pital Notre-Dame %C3%A0 la Rose":MAILTO:info@notredamelarose.be
END:VEVENT
BEGIN:VEVENT
DTSTART;TZID=Europe/Paris:20250518T093000
DTEND;TZID=Europe/Paris:20250518T180000
DTSTAMP:20260421T181244
CREATED:20250218T130806Z
LAST-MODIFIED:20260226T131842Z
UID:12682-1747560600-1747591200@www.notredamealarose.be
SUMMARY:Journée internationale des musées 2025
DESCRIPTION:Dans le cadre de la Journée internationale des musées organisée par l’ICOM ce dimanche 18 mai 2025\, venez découvrir les métiers du patrimoine à l’Hôpital Notre-Dame à la Rose de Lessines!\nUne dizaine d’intervenants (archéologue\, architecte\, archiviste\, restaurateur d’objets d’art\, tailleur de pierre…) viendront vous présenter leur art. Une occasion unique d’échanger avec ces experts et artisans sur les secrets de leur métier\, voire de vous y initier!\n\n\nFace aux transformations rapides de nos sociétés – qu’elles soient sociales\, culturelles\, économiques ou technologiques – les musées se réinventent. Leur avenir repose sur leur capacité à s’adapter\, à innover\, mais aussi à valoriser et transmettre les savoir-faire humains qui les animent et les font vivre.\n\n\nQuel rôle les musées jouent-ils dans la transmission et la préservation des traditions et savoir-faire témoignant du génie créateur humain\, à l’heure des bouleversements technologiques récents ? C’est autour de cette question centrale que s’articulera notre réflexion à l’occasion de la Journée internationale des musées\, placée cette année sous le thème de L’avenir des musées au sein des communautés en évolution constante.\n\n\nCette après-midi exceptionnelle offre une immersion rare dans les coulisses du patrimoine. À travers des rencontres\, des démonstrations et des ateliers d’initiation\, le public pourra découvrir des métiers passionnants\, souvent méconnus ou invisibles\, mais pourtant essentiels à la préservation et à la transmission de notre héritage culturel : conservateur\, restaurateur d’objets d’art\, archiviste\, archéologue\, technicien du patrimoine…\n\n\nCe rendez-vous unique sera l’occasion de dialoguer avec ces professionnels et artisans\, d’observer (voire de répliquer !) leurs gestes et de découvrir (voire manipuler ! ) leurs outils ; il permettra de mieux comprendre la richesse\, la complexité mais également les enjeux des missions qui incombent à ces amoureux du patrimoine.\n\n\nRestauration de meuble ancien \nAssistez en direct à la restauration d’un prie-Dieu ancien par Terry Vander Haegen\, notre ébéniste-restaurateur . Mais quelle différence y a-t-il entre un  menuisier et un ébéniste ? \nLes dessous du musée – Visite de réserve \nAccompagnés d’Élise Bocquet\, notre responsable des collections\, découvrez les coulisses du musée !\n Une visite exceptionnelle de notre réserve textile et d’objets liturgiques vous attend.\n Aménagée il y a quelques années dans l’ancienne sacristie de l’Hôpital Notre-Dame à la Rose\, cette réserve est habituellement fermée au public. \nRedonnez à votre argenterie toute sa superbe\n Apprenez les bons gestes pour nettoyer et préserver votre argenterie avec Christine Delplancq\, notre responsable service pédagogique.. Évitez les erreurs courantes et l’utilisation de produits inadaptés.  \nSecrets d’archives\nPosséder un fonds d’archives est un véritable privilège\, mais encore faut-il savoir comment les organiser correctement. Même lorsque les dates sont inscrites sur les documents\, est-ce vraiment aussi simple qu’il y paraît pour les trier chronologiquement parlant ? Céline Cardoen\, mémorante à l’ULB\, vous présentera le fonds d’archive de l’Hôpital à cette occasion.  \nDifférentes cessions \n\n13h30-14h\n14h15-14h45\n15h-15h30 \n16h-16h30\n16h45-17h15\n\nDe la pierre à l’œuvre d’art\n Comment un simple bloc de pierre devient-il un chef-d’œuvre ?\n Découvrez les secrets des techniques de taille et de gravure\, gestes précis transmis de génération en génération avec Marie Debelder\, tailleuse de pierre professionnelle et formatrice au Pôle de la Pierre et à la Paix-Dieu. Laissez-vous émerveiller par la transformation de la matière brute en créations délicates\, entre force et finesse. \nSur les traces de Monsieur I.  Jones \nPlongez dans le quotidien d’une (vraie!) archéologue\, Barbara Fortemaison\,  et découvrez comment il fouille\, étudie et interprète les objets anciens pour raconter l’histoire de l’humanité. \nObservez et manipulez des céramiques\, des fragments métalliques ou des ossements tels qu’ils sont retrouvés sur les sites archéologiques. Apprenez comment chaque objet devient un indice précieux pour comprendre le passé et préserver le patrimoine. \nUne belle occasion de découvrir un métier passionnant au croisement des sciences et de l’Histoire. \nGuide au musée ? Pourquoi pas vous ? \nRencontrez l’un de nos guides prestataires\, Christine Castel\,  et découvrez les coulisses de son métier à l’Hôpital Notre-Dame à la Rose. Posez-lui vos questions\, explorez son quotidien… et si l’aventure vous tente\, vous pourrez nous laisser vos coordonnées à l’issue de l’échange ! \nUne toile peut en cacher une autre \nAu moyen d’une lampe UV\, à la manière d’un enquêteur\, l’atelier de Conservation-Restauration « SALVARTES » vous invite à identifier les traces des opérations de restauration pratiquées sur des oeuvres peintes.  \nBâti ancien et fonctions nouvelles : une question d’équilibre \nComment concilier patrimoine et normes de confort actuelles ? Améliorer le confort thermique d’un bâtiment classé\, sans en altérer l’âme\, relève d’un subtil équilibre. Derrière chaque mur ancien\, chaque fenêtre d’époque\, se cachent des défis techniques… A travers l’approche de toitures des XVIe et XVIIe siècle\, Maxime Gabriel\, architecte du patrimoine\, vous présentera les enjeux de la restauration sur deux bâtiments civils classés comme monuments. \nLes nouvelles technologies au service du patrimoine bâti \nVous êtes plutôt réalité augmentée ou réalité virtuelle? Photogrammétrie ou laser scanner? Benoit Lemmens\, architecte du patrimoine et formateur au Pôle de la pierre de Soignies\, vous propose une immersion dans le monde de la digitalisation!  \n\n\nINFORMATIONS PRATIQUESEntrée gratuite : 9h30 > 18h (dernière entrée à 17h).Découverte des métiers : 13h30 > 17h30.Visite guidée du musée NL/FR à 15h (payante).Accès PMR & chiens d’assistance. Gare SNCB à 400m. Parkings à proximité.
URL:https://www.notredamealarose.be/event/journee-internationale-des-musees/
LOCATION:Arsenal des Pompiers de Lessines\, Rue des Quatre frères Aymon\, Lessines\, Hainaut\, 7860
ATTACH;FMTTYPE=image/jpeg:https://www.notredamealarose.be/2022/wp-content/uploads/2025/02/Journee-internationale-des-musees-Dimanche-18-mai-2025-HNDR.jpg
ORGANIZER;CN="H%C3%B4pital Notre-Dame %C3%A0 la Rose":MAILTO:info@notredamelarose.be
END:VEVENT
END:VCALENDAR