BEGIN:VCALENDAR
VERSION:2.0
PRODID:-//Hôpital Notre-Dame à la Rose - Lessines - ECPv6.15.20//NONSGML v1.0//EN
CALSCALE:GREGORIAN
METHOD:PUBLISH
X-ORIGINAL-URL:https://www.notredamealarose.be
X-WR-CALDESC:Évènements pour Hôpital Notre-Dame à la Rose - Lessines
REFRESH-INTERVAL;VALUE=DURATION:PT1H
X-Robots-Tag:noindex
X-PUBLISHED-TTL:PT1H
BEGIN:VTIMEZONE
TZID:Europe/Paris
BEGIN:DAYLIGHT
TZOFFSETFROM:+0100
TZOFFSETTO:+0200
TZNAME:CEST
DTSTART:20250330T010000
END:DAYLIGHT
BEGIN:STANDARD
TZOFFSETFROM:+0200
TZOFFSETTO:+0100
TZNAME:CET
DTSTART:20251026T010000
END:STANDARD
BEGIN:DAYLIGHT
TZOFFSETFROM:+0100
TZOFFSETTO:+0200
TZNAME:CEST
DTSTART:20260329T010000
END:DAYLIGHT
BEGIN:STANDARD
TZOFFSETFROM:+0200
TZOFFSETTO:+0100
TZNAME:CET
DTSTART:20261025T010000
END:STANDARD
BEGIN:DAYLIGHT
TZOFFSETFROM:+0100
TZOFFSETTO:+0200
TZNAME:CEST
DTSTART:20270328T010000
END:DAYLIGHT
BEGIN:STANDARD
TZOFFSETFROM:+0200
TZOFFSETTO:+0100
TZNAME:CET
DTSTART:20271031T010000
END:STANDARD
END:VTIMEZONE
BEGIN:VEVENT
DTSTART;TZID=Europe/Paris:20260614T143000
DTEND;TZID=Europe/Paris:20260614T163000
DTSTAMP:20260425T000619
CREATED:20260423T114207Z
LAST-MODIFIED:20260423T114255Z
UID:14293-1781447400-1781454600@www.notredamealarose.be
SUMMARY:Atelier créatif # 4 : boisson fermentée
DESCRIPTION:Atelier créatif # 4 : boisson fermentée\nLe dimanche 14 juin à 14h30 \nPar Erna de Neat & Nature \nÀ l’approche de l’été\, apprenez à créer une boisson aussi rafraîchissante que saine et savoureuse à base de fruits frais de saison et de plantes de notre jardin.Une parenthèse désaltérante dans un cadre enchanteur.\n\n Public : à partir de 16 ans Durée : 1h30 à 2h Tarif : 35 € Billetterie en ligne via ce lien.\nPlus d’infos : info@notredamealarose.be ou +32 (0) 68 33 24 03
URL:https://www.notredamealarose.be/event/atelier-creatif-4-boisson-fermentee-2/
LOCATION:Hopital Notre-Dame à la Rose
CATEGORIES:Actualités,Animations
ORGANIZER;CN="H%C3%B4pital Notre-Dame %C3%A0 la Rose":MAILTO:info@notredamelarose.be
END:VEVENT
END:VCALENDAR